BEGIN:VCALENDAR
VERSION:2.0
PRODID:-//Fort Bragg Library - ECPv6.15.20//NONSGML v1.0//EN
CALSCALE:GREGORIAN
METHOD:PUBLISH
X-WR-CALNAME:Fort Bragg Library
X-ORIGINAL-URL:https://fortbragglibrary.org
X-WR-CALDESC:Events for Fort Bragg Library
REFRESH-INTERVAL;VALUE=DURATION:PT1H
X-Robots-Tag:noindex
X-PUBLISHED-TTL:PT1H
BEGIN:VTIMEZONE
TZID:America/Los_Angeles
BEGIN:DAYLIGHT
TZOFFSETFROM:-0800
TZOFFSETTO:-0700
TZNAME:PDT
DTSTART:20230312T100000
END:DAYLIGHT
BEGIN:STANDARD
TZOFFSETFROM:-0700
TZOFFSETTO:-0800
TZNAME:PST
DTSTART:20231105T090000
END:STANDARD
BEGIN:DAYLIGHT
TZOFFSETFROM:-0800
TZOFFSETTO:-0700
TZNAME:PDT
DTSTART:20240310T100000
END:DAYLIGHT
BEGIN:STANDARD
TZOFFSETFROM:-0700
TZOFFSETTO:-0800
TZNAME:PST
DTSTART:20241103T090000
END:STANDARD
BEGIN:DAYLIGHT
TZOFFSETFROM:-0800
TZOFFSETTO:-0700
TZNAME:PDT
DTSTART:20250309T100000
END:DAYLIGHT
BEGIN:STANDARD
TZOFFSETFROM:-0700
TZOFFSETTO:-0800
TZNAME:PST
DTSTART:20251102T090000
END:STANDARD
BEGIN:DAYLIGHT
TZOFFSETFROM:-0800
TZOFFSETTO:-0700
TZNAME:PDT
DTSTART:20260308T100000
END:DAYLIGHT
BEGIN:STANDARD
TZOFFSETFROM:-0700
TZOFFSETTO:-0800
TZNAME:PST
DTSTART:20261101T090000
END:STANDARD
BEGIN:DAYLIGHT
TZOFFSETFROM:-0800
TZOFFSETTO:-0700
TZNAME:PDT
DTSTART:20270314T100000
END:DAYLIGHT
BEGIN:STANDARD
TZOFFSETFROM:-0700
TZOFFSETTO:-0800
TZNAME:PST
DTSTART:20271107T090000
END:STANDARD
END:VTIMEZONE
BEGIN:VEVENT
DTSTART;TZID=America/Los_Angeles:20260411T100000
DTEND;TZID=America/Los_Angeles:20260411T113000
DTSTAMP:20260420T092501
CREATED:20260124T174729Z
LAST-MODIFIED:20260401T192816Z
UID:10012102-1775901600-1775907000@fortbragglibrary.org
SUMMARY:The Summer Garden
DESCRIPTION:Fort Bragg Seed Library Presents\nThe Summer Garden\nwith an emphasis on\nCooperation and Biodiversity\nSATURDAY\, April 11\, 2026 10-11:30 am\nGardening expert\, Sakina Bush\, will discuss the basics of summer gardening with an emphasis on Cooperation and Biodiversity.  \nThese are FREE classes and no sign-up is necessary. \nTell your friends! They won’t want to miss this valuable information. \nAnd don’t forget to bring your notebooks and pens. \nSakina has been gardening on the coast for 17 years. She formerly taught vocational horticulture for Mendocino County schools and currently operates Sakina’s Garden Nursery providing garden starts for local gardeners. \n  \n 
URL:https://fortbragglibrary.org/event/summer-garden-2026/
LOCATION:Fort Bragg Library\, 499 E Laurel St\, Fort Bragg\, CA\, United States
CATEGORIES:Seed Library
GEO:39.4456801;-123.8011111
X-APPLE-STRUCTURED-LOCATION;VALUE=URI;X-ADDRESS=Fort Bragg Library 499 E Laurel St Fort Bragg CA United States;X-APPLE-RADIUS=500;X-TITLE=499 E Laurel St:geo:-123.8011111,39.4456801
END:VEVENT
BEGIN:VEVENT
DTSTART;TZID=America/Los_Angeles:20260328T140000
DTEND;TZID=America/Los_Angeles:20260328T153000
DTSTAMP:20260420T092501
CREATED:20260123T184627Z
LAST-MODIFIED:20260303T224054Z
UID:10012101-1774706400-1774711800@fortbragglibrary.org
SUMMARY:The Spring Garden Part 2 with Sakina Bush
DESCRIPTION:Fort Bragg Seed Library Presents\nThe Spring Garden\nBed Prep/Soil and Fertility\nSaturday\, March 28\, 2026 2-3:30 Pm\nJoin us for part 2 of our Spring Garden classes where Sakina will teach us all about Bed Preparation/Soil and Fertility.  \nThese are FREE classes and no sign-up is necessary. \nTell your friends! They won’t want to miss this valuable information. \nAnd don’t forget to bring your notebooks and pens. \nSakina has been gardening on the coast for 17 years. She formerly taught vocational horticulture for Mendocino County schools and currently operates Sakina’s Garden Nursery providing garden starts for local gardeners. \n  \n 
URL:https://fortbragglibrary.org/event/the-spring-garden-part-2-with-sakina-bush/
LOCATION:Fort Bragg Library\, 499 E Laurel St\, Fort Bragg\, CA\, United States
CATEGORIES:Seed Library
GEO:39.4456801;-123.8011111
X-APPLE-STRUCTURED-LOCATION;VALUE=URI;X-ADDRESS=Fort Bragg Library 499 E Laurel St Fort Bragg CA United States;X-APPLE-RADIUS=500;X-TITLE=499 E Laurel St:geo:-123.8011111,39.4456801
END:VEVENT
BEGIN:VEVENT
DTSTART;TZID=America/Los_Angeles:20260228T100000
DTEND;TZID=America/Los_Angeles:20260228T113000
DTSTAMP:20260420T092501
CREATED:20260123T184307Z
LAST-MODIFIED:20260124T171648Z
UID:10012100-1772272800-1772278200@fortbragglibrary.org
SUMMARY:The Spring Garden Part 1 with Sakina Bush
DESCRIPTION:Fort Bragg Seed Library Presents\nThe Spring Garden\nSeed Sowing\nSATURDAY\, FEBRUARY 28\, 2026 10-11:30 am\nJoin us for part 1 of our Spring Garden classes. Part 1 will feature gardening expert\, Sakina Bush\, who will teach us the basic principles of spring gardening and seed sowing. In part 2 on March 28th\, Sakina will go over Bed Preparation/Soil and Fertility.  \nThese are FREE classes and no sign-up is necessary. \nTell your friends! They won’t want to miss this valuable information. \nAnd don’t forget to bring your notebooks and pens. \nSakina has been gardening on the coast for 17 years. She formerly taught vocational horticulture for Mendocino County schools and currently operates Sakina’s Garden Nursery providing garden starts for local gardeners. \n  \n 
URL:https://fortbragglibrary.org/event/the-spring-garden-with-sakina-bush/
LOCATION:Fort Bragg Library\, 499 E Laurel St\, Fort Bragg\, CA\, United States
CATEGORIES:Seed Library
GEO:39.4456801;-123.8011111
X-APPLE-STRUCTURED-LOCATION;VALUE=URI;X-ADDRESS=Fort Bragg Library 499 E Laurel St Fort Bragg CA United States;X-APPLE-RADIUS=500;X-TITLE=499 E Laurel St:geo:-123.8011111,39.4456801
END:VEVENT
BEGIN:VEVENT
DTSTART;TZID=America/Los_Angeles:20250531T100000
DTEND;TZID=America/Los_Angeles:20250531T120000
DTSTAMP:20260420T092501
CREATED:20250417T184852Z
LAST-MODIFIED:20250417T225646Z
UID:10010967-1748685600-1748692800@fortbragglibrary.org
SUMMARY:Summer Gardening Class
DESCRIPTION:Fort Bragg Seed Library\nPresents\nSummer Gardening with Sakina Bush\nSaturday\, May 31\, 2025\n10 am – 12 pm\nJoin us for this special presentation on summer garden prep and basics with gardening expert\, Sakina Bush. \nThis is a free event.
URL:https://fortbragglibrary.org/event/summer-gardening-class/
LOCATION:Fort Bragg Library\, 499 E Laurel St\, Fort Bragg\, CA\, United States
CATEGORIES:Seed Library
GEO:39.4456801;-123.8011111
X-APPLE-STRUCTURED-LOCATION;VALUE=URI;X-ADDRESS=Fort Bragg Library 499 E Laurel St Fort Bragg CA United States;X-APPLE-RADIUS=500;X-TITLE=499 E Laurel St:geo:-123.8011111,39.4456801
END:VEVENT
BEGIN:VEVENT
DTSTART;TZID=America/Los_Angeles:20240427T100000
DTEND;TZID=America/Los_Angeles:20240427T113000
DTSTAMP:20260420T092501
CREATED:20240329T174607Z
LAST-MODIFIED:20240425T180932Z
UID:10009946-1714212000-1714217400@fortbragglibrary.org
SUMMARY:Summer Gardening with Sakina Bush
DESCRIPTION:Fort Bragg Seed Library\nPresents\nSummer Gardening with Sakina Bush\nSaturday\, April 27\, 2024\n10-11:30 am\nJoin us for this special presentation on summer garden prep with gardening expert\, Sakina Bush.
URL:https://fortbragglibrary.org/event/summer-gardening/
LOCATION:Fort Bragg Library\, 499 E Laurel St\, Fort Bragg\, CA\, United States
CATEGORIES:Seed Library
GEO:39.4456801;-123.8011111
X-APPLE-STRUCTURED-LOCATION;VALUE=URI;X-ADDRESS=Fort Bragg Library 499 E Laurel St Fort Bragg CA United States;X-APPLE-RADIUS=500;X-TITLE=499 E Laurel St:geo:-123.8011111,39.4456801
END:VEVENT
END:VCALENDAR