BEGIN:VCALENDAR
VERSION:2.0
PRODID:-//Fort Bragg Library - ECPv6.15.20//NONSGML v1.0//EN
CALSCALE:GREGORIAN
METHOD:PUBLISH
X-WR-CALNAME:Fort Bragg Library
X-ORIGINAL-URL:https://fortbragglibrary.org
X-WR-CALDESC:Events for Fort Bragg Library
REFRESH-INTERVAL;VALUE=DURATION:PT1H
X-Robots-Tag:noindex
X-PUBLISHED-TTL:PT1H
BEGIN:VTIMEZONE
TZID:America/Los_Angeles
BEGIN:DAYLIGHT
TZOFFSETFROM:-0800
TZOFFSETTO:-0700
TZNAME:PDT
DTSTART:20230312T100000
END:DAYLIGHT
BEGIN:STANDARD
TZOFFSETFROM:-0700
TZOFFSETTO:-0800
TZNAME:PST
DTSTART:20231105T090000
END:STANDARD
BEGIN:DAYLIGHT
TZOFFSETFROM:-0800
TZOFFSETTO:-0700
TZNAME:PDT
DTSTART:20240310T100000
END:DAYLIGHT
BEGIN:STANDARD
TZOFFSETFROM:-0700
TZOFFSETTO:-0800
TZNAME:PST
DTSTART:20241103T090000
END:STANDARD
BEGIN:DAYLIGHT
TZOFFSETFROM:-0800
TZOFFSETTO:-0700
TZNAME:PDT
DTSTART:20250309T100000
END:DAYLIGHT
BEGIN:STANDARD
TZOFFSETFROM:-0700
TZOFFSETTO:-0800
TZNAME:PST
DTSTART:20251102T090000
END:STANDARD
END:VTIMEZONE
BEGIN:VEVENT
DTSTART;TZID=America/Los_Angeles:20240427T100000
DTEND;TZID=America/Los_Angeles:20240427T113000
DTSTAMP:20260421T114741
CREATED:20240329T174607Z
LAST-MODIFIED:20240425T180932Z
UID:10009946-1714212000-1714217400@fortbragglibrary.org
SUMMARY:Summer Gardening with Sakina Bush
DESCRIPTION:Fort Bragg Seed Library\nPresents\nSummer Gardening with Sakina Bush\nSaturday\, April 27\, 2024\n10-11:30 am\nJoin us for this special presentation on summer garden prep with gardening expert\, Sakina Bush.
URL:https://fortbragglibrary.org/event/summer-gardening/
LOCATION:Fort Bragg Library\, 499 E Laurel St\, Fort Bragg\, CA\, United States
CATEGORIES:Seed Library
GEO:39.4456801;-123.8011111
X-APPLE-STRUCTURED-LOCATION;VALUE=URI;X-ADDRESS=Fort Bragg Library 499 E Laurel St Fort Bragg CA United States;X-APPLE-RADIUS=500;X-TITLE=499 E Laurel St:geo:-123.8011111,39.4456801
END:VEVENT
BEGIN:VEVENT
DTSTART;TZID=America/Los_Angeles:20240425T160000
DTEND;TZID=America/Los_Angeles:20240425T170000
DTSTAMP:20260421T114741
CREATED:20240815T172532Z
LAST-MODIFIED:20240815T172532Z
UID:10009736-1714060800-1714064400@fortbragglibrary.org
SUMMARY:Adult Book Group
DESCRIPTION:Adult Book Group\n \nThe last Thursday of the month @ 4 pm \n\n		\n		\n	\nAre you interested in reviewing and discussing intriguing contemporary fiction and nonfiction books on a variety of topics?  Then you will love our Adult Book Group! \nJoin us as we explore books of all kinds—fiction\, special interests\, current and past affairs\, fun trends\, memoirs\, etc. The goal of the Adult Book Group is to offer readers a fresh approach to the traditional book club. \nFor placement on the reserve list\, send an email to Branch Librarian\, Dan Hess\, hessd@mendocinocounty.org.  You can also stop by the library or give us a call to reserve a copy of the monthly selection\, 707-964-2020. \nWe look forward to sharing a reading adventure with you!
URL:https://fortbragglibrary.org/event/adult-book-group-6-2024-03-28/2024-04-25/
LOCATION:Fort Bragg Library\, 499 E Laurel St\, Fort Bragg\, CA\, United States
CATEGORIES:Adult Book Club
GEO:39.4456801;-123.8011111
X-APPLE-STRUCTURED-LOCATION;VALUE=URI;X-ADDRESS=Fort Bragg Library 499 E Laurel St Fort Bragg CA United States;X-APPLE-RADIUS=500;X-TITLE=499 E Laurel St:geo:-123.8011111,39.4456801
END:VEVENT
BEGIN:VEVENT
DTSTART;TZID=America/Los_Angeles:20240425T160000
DTEND;TZID=America/Los_Angeles:20240425T170000
DTSTAMP:20260421T114741
CREATED:20231109T220443Z
LAST-MODIFIED:20240309T234732Z
UID:10009729-1714060800-1714064400@fortbragglibrary.org
SUMMARY:Adult Book Group
DESCRIPTION:Adult Book Group\n \nThe last Thursday of the month @ 4 pm \n\n		\n		\n	\nAre you interested in reviewing and discussing intriguing contemporary fiction and nonfiction books on a variety of topics?  Then you will love our Adult Book Group! \nJoin us as we explore books of all kinds—fiction\, special interests\, current and past affairs\, fun trends\, memoirs\, etc. The goal of the Adult Book Group is to offer readers a fresh approach to the traditional book club. \nFor placement on the reserve list\, send an email to Branch Librarian\, Dan Hess\, hessd@mendocinocounty.org.  You can also stop by the library or give us a call to reserve a copy of the monthly selection\, 707-964-2020. \nWe look forward to sharing a reading adventure with you!
URL:https://fortbragglibrary.org/event/adult-book-group-6-2024-03-28/2024-04-25/
LOCATION:Fort Bragg Library\, 499 E Laurel St\, Fort Bragg\, CA\, United States
CATEGORIES:Adult Book Club
GEO:39.4456801;-123.8011111
X-APPLE-STRUCTURED-LOCATION;VALUE=URI;X-ADDRESS=Fort Bragg Library 499 E Laurel St Fort Bragg CA United States;X-APPLE-RADIUS=500;X-TITLE=499 E Laurel St:geo:-123.8011111,39.4456801
END:VEVENT
BEGIN:VEVENT
DTSTART;TZID=America/Los_Angeles:20240424T160000
DTEND;TZID=America/Los_Angeles:20240424T173000
DTSTAMP:20260421T114741
CREATED:20240322T214953Z
LAST-MODIFIED:20240322T215020Z
UID:10009945-1713974400-1713979800@fortbragglibrary.org
SUMMARY:Snacktivity
DESCRIPTION:Snacktivity\nWednesday\, April 24 \, 2024\, 4-5:30\nThis month: Duct Tape Crafts\nTeens and Tweens (ages 10 and up)\, come and create your own masterpiece using colorful duct tape.\nBring your friends and learn a new art form. All supplies and snacks provided.
URL:https://fortbragglibrary.org/event/snacktivity-9/
LOCATION:Fort Bragg Library\, 499 E Laurel St\, Fort Bragg\, CA\, United States
CATEGORIES:Snacktivity
GEO:39.4456801;-123.8011111
X-APPLE-STRUCTURED-LOCATION;VALUE=URI;X-ADDRESS=Fort Bragg Library 499 E Laurel St Fort Bragg CA United States;X-APPLE-RADIUS=500;X-TITLE=499 E Laurel St:geo:-123.8011111,39.4456801
END:VEVENT
END:VCALENDAR