BEGIN:VCALENDAR
VERSION:2.0
PRODID:-//Fort Bragg Library - ECPv6.15.20//NONSGML v1.0//EN
CALSCALE:GREGORIAN
METHOD:PUBLISH
X-WR-CALNAME:Fort Bragg Library
X-ORIGINAL-URL:https://fortbragglibrary.org
X-WR-CALDESC:Events for Fort Bragg Library
REFRESH-INTERVAL;VALUE=DURATION:PT1H
X-Robots-Tag:noindex
X-PUBLISHED-TTL:PT1H
BEGIN:VTIMEZONE
TZID:America/Los_Angeles
BEGIN:DAYLIGHT
TZOFFSETFROM:-0800
TZOFFSETTO:-0700
TZNAME:PDT
DTSTART:20240310T100000
END:DAYLIGHT
BEGIN:STANDARD
TZOFFSETFROM:-0700
TZOFFSETTO:-0800
TZNAME:PST
DTSTART:20241103T090000
END:STANDARD
BEGIN:DAYLIGHT
TZOFFSETFROM:-0800
TZOFFSETTO:-0700
TZNAME:PDT
DTSTART:20250309T100000
END:DAYLIGHT
BEGIN:STANDARD
TZOFFSETFROM:-0700
TZOFFSETTO:-0800
TZNAME:PST
DTSTART:20251102T090000
END:STANDARD
BEGIN:DAYLIGHT
TZOFFSETFROM:-0800
TZOFFSETTO:-0700
TZNAME:PDT
DTSTART:20260308T100000
END:DAYLIGHT
BEGIN:STANDARD
TZOFFSETFROM:-0700
TZOFFSETTO:-0800
TZNAME:PST
DTSTART:20261101T090000
END:STANDARD
END:VTIMEZONE
BEGIN:VEVENT
DTSTART;TZID=America/Los_Angeles:20250802T100000
DTEND;TZID=America/Los_Angeles:20250802T110000
DTSTAMP:20260422T155304
CREATED:20250618T204310Z
LAST-MODIFIED:20250624T235918Z
UID:10011176-1754128800-1754132400@fortbragglibrary.org
SUMMARY:Wild Things Animal Presentation ~ a Summer Reading event
DESCRIPTION:Wild Things Animal Presentation\nSaturday\, August 2\, 2025\, 10 – 11 am\nThe Conservation Ambassadors’ “Wild Things” program rescues wildlife and teaches awareness through sharing the stories of the animals that have been saved. \nCome meet these extraordinary creatures and hear their tales! \n\n		\n		\n	Conservation Ambassadors’ Wild Things was founded in 1987 for the purpose of housing and caring for displaced wildlife. With the help of these animal ambassadors\, we have been educating the public with a message of conservation and appreciation for natural wonders for over 35 years. Conservation Ambassadors’ Wild Things provides a home for over 60 species of wildlife. These animals are shared in our wildlife education presentations\, which we offer to thousands of school children every year. Our hope is that through meeting these animals and hearing their stories\, future generations will gain a greater appreciation for the natural world.\n		\n		\n	Check out these photos from our 2023 event: \n\n			\n				\n			\n			\n				\n			\n			\n				\n			\n			\n				\n			\n			\n				\n			\n			\n				\n			\n			\n				\n			\n			\n				\n			\n			\n				\n			\n		\n\n 
URL:https://fortbragglibrary.org/event/wild-things-animal-presentation-a-summer-reading-event/
LOCATION:Fort Bragg Library\, 499 E Laurel St\, Fort Bragg\, CA\, United States
CATEGORIES:Level Up!
GEO:39.4456801;-123.8011111
X-APPLE-STRUCTURED-LOCATION;VALUE=URI;X-ADDRESS=Fort Bragg Library 499 E Laurel St Fort Bragg CA United States;X-APPLE-RADIUS=500;X-TITLE=499 E Laurel St:geo:-123.8011111,39.4456801
END:VEVENT
END:VCALENDAR