BEGIN:VCALENDAR
VERSION:2.0
PRODID:-//Fort Bragg Library - ECPv6.15.20//NONSGML v1.0//EN
CALSCALE:GREGORIAN
METHOD:PUBLISH
X-ORIGINAL-URL:https://fortbragglibrary.org
X-WR-CALDESC:Events for Fort Bragg Library
REFRESH-INTERVAL;VALUE=DURATION:PT1H
X-Robots-Tag:noindex
X-PUBLISHED-TTL:PT1H
BEGIN:VTIMEZONE
TZID:America/Los_Angeles
BEGIN:DAYLIGHT
TZOFFSETFROM:-0800
TZOFFSETTO:-0700
TZNAME:PDT
DTSTART:20240310T100000
END:DAYLIGHT
BEGIN:STANDARD
TZOFFSETFROM:-0700
TZOFFSETTO:-0800
TZNAME:PST
DTSTART:20241103T090000
END:STANDARD
BEGIN:DAYLIGHT
TZOFFSETFROM:-0800
TZOFFSETTO:-0700
TZNAME:PDT
DTSTART:20250309T100000
END:DAYLIGHT
BEGIN:STANDARD
TZOFFSETFROM:-0700
TZOFFSETTO:-0800
TZNAME:PST
DTSTART:20251102T090000
END:STANDARD
BEGIN:DAYLIGHT
TZOFFSETFROM:-0800
TZOFFSETTO:-0700
TZNAME:PDT
DTSTART:20260308T100000
END:DAYLIGHT
BEGIN:STANDARD
TZOFFSETFROM:-0700
TZOFFSETTO:-0800
TZNAME:PST
DTSTART:20261101T090000
END:STANDARD
END:VTIMEZONE
BEGIN:VEVENT
DTSTART;TZID=America/Los_Angeles:20250620T140000
DTEND;TZID=America/Los_Angeles:20250620T150000
DTSTAMP:20260422T185413
CREATED:20250424T174442Z
LAST-MODIFIED:20250502T193952Z
UID:10011008-1750428000-1750431600@fortbragglibrary.org
SUMMARY:Silly Circus\, a Summer Reading Event
DESCRIPTION:Silly Circus Show\na Summer Reading Event\nFriday\, June 20\, 2025\, 2-3 pm\nKids! Join us for some silly fun with Bri Crabtree and her Silly Circus Show. Bri will dazzle you with her fusion of circus\, vaudeville\, and silliness. We guarantee it!
URL:https://fortbragglibrary.org/event/silly-circus-a-summer-reading-event/
LOCATION:Fort Bragg Library\, 499 E Laurel St\, Fort Bragg\, CA\, United States
CATEGORIES:Level Up!,Summer Reading
GEO:39.4456801;-123.8011111
X-APPLE-STRUCTURED-LOCATION;VALUE=URI;X-ADDRESS=Fort Bragg Library 499 E Laurel St Fort Bragg CA United States;X-APPLE-RADIUS=500;X-TITLE=499 E Laurel St:geo:-123.8011111,39.4456801
END:VEVENT
BEGIN:VEVENT
DTSTART;TZID=America/Los_Angeles:20250628T140000
DTEND;TZID=America/Los_Angeles:20250628T150000
DTSTAMP:20260422T185413
CREATED:20250424T205125Z
LAST-MODIFIED:20250531T223452Z
UID:10011010-1751119200-1751122800@fortbragglibrary.org
SUMMARY:Kids Coding ~ a Summer Reading event
DESCRIPTION:Kids Coding\na Summer Reading event\nSaturday\, June 28\, 2025\, 2-3 pm\nYoung tech enthusiasts\, ages 8 to 16\, will explore the fun and exciting world of coding with Scratch. All materials will be provided and no experience is necessary\, but space is limited\, so please sign up in advance. \n 
URL:https://fortbragglibrary.org/event/kids-coding-a-summer-reading-event/
LOCATION:Fort Bragg Library\, 499 E Laurel St\, Fort Bragg\, CA\, United States
CATEGORIES:Level Up!
GEO:39.4456801;-123.8011111
X-APPLE-STRUCTURED-LOCATION;VALUE=URI;X-ADDRESS=Fort Bragg Library 499 E Laurel St Fort Bragg CA United States;X-APPLE-RADIUS=500;X-TITLE=499 E Laurel St:geo:-123.8011111,39.4456801
END:VEVENT
END:VCALENDAR