BEGIN:VCALENDAR
VERSION:2.0
PRODID:-//Fort Bragg Library - ECPv6.15.20//NONSGML v1.0//EN
CALSCALE:GREGORIAN
METHOD:PUBLISH
X-WR-CALNAME:Fort Bragg Library
X-ORIGINAL-URL:https://fortbragglibrary.org
X-WR-CALDESC:Events for Fort Bragg Library
REFRESH-INTERVAL;VALUE=DURATION:PT1H
X-Robots-Tag:noindex
X-PUBLISHED-TTL:PT1H
BEGIN:VTIMEZONE
TZID:America/Los_Angeles
BEGIN:DAYLIGHT
TZOFFSETFROM:-0800
TZOFFSETTO:-0700
TZNAME:PDT
DTSTART:20230312T100000
END:DAYLIGHT
BEGIN:STANDARD
TZOFFSETFROM:-0700
TZOFFSETTO:-0800
TZNAME:PST
DTSTART:20231105T090000
END:STANDARD
BEGIN:DAYLIGHT
TZOFFSETFROM:-0800
TZOFFSETTO:-0700
TZNAME:PDT
DTSTART:20240310T100000
END:DAYLIGHT
BEGIN:STANDARD
TZOFFSETFROM:-0700
TZOFFSETTO:-0800
TZNAME:PST
DTSTART:20241103T090000
END:STANDARD
BEGIN:DAYLIGHT
TZOFFSETFROM:-0800
TZOFFSETTO:-0700
TZNAME:PDT
DTSTART:20250309T100000
END:DAYLIGHT
BEGIN:STANDARD
TZOFFSETFROM:-0700
TZOFFSETTO:-0800
TZNAME:PST
DTSTART:20251102T090000
END:STANDARD
END:VTIMEZONE
BEGIN:VEVENT
DTSTART;TZID=America/Los_Angeles:20240807T140000
DTEND;TZID=America/Los_Angeles:20240807T150000
DTSTAMP:20260423T094712
CREATED:20240614T173854Z
LAST-MODIFIED:20240614T173854Z
UID:10009966-1723039200-1723042800@fortbragglibrary.org
SUMMARY:Build-a-Robot ~ a Summer Reading event
DESCRIPTION:Build-a-Robot\nWednesday\, August 7\, 2024\, 2-3 pm\nKids 8 to 12 will make Doodling Robots which can create works of art. \nSpace is limited so please sign up in advance.
URL:https://fortbragglibrary.org/event/build-a-robot-a-summer-reading-event/
LOCATION:Fort Bragg Library\, 499 E Laurel St\, Fort Bragg\, CA\, United States
CATEGORIES:Summer Reading
GEO:39.4456801;-123.8011111
X-APPLE-STRUCTURED-LOCATION;VALUE=URI;X-ADDRESS=Fort Bragg Library 499 E Laurel St Fort Bragg CA United States;X-APPLE-RADIUS=500;X-TITLE=499 E Laurel St:geo:-123.8011111,39.4456801
END:VEVENT
BEGIN:VEVENT
DTSTART;TZID=America/Los_Angeles:20240810T140000
DTEND;TZID=America/Los_Angeles:20240810T150000
DTSTAMP:20260423T094712
CREATED:20240614T182048Z
LAST-MODIFIED:20240614T182235Z
UID:10009967-1723298400-1723302000@fortbragglibrary.org
SUMMARY:Chicken Lips ~ an end of Summer Reading event
DESCRIPTION:Chicken Lips Read\, Renew\, Repeat!\nSaturday\, August 10\, 2024\, 2-3 pm\n\n\n\n\nCelebrate the end of Summer Reading with a high-energy explosion of music\, dancing and laughter\, for kids of all ages! \n\n		\n		\n	From ChickenLipsMusic.com: This show focuses on encouraging active conservationism and awareness concerning our world.  Children are motivated to get involved\, to find where their passion intersects with learning about and taking care of the environment around us.  All of this in an exciting\, interactive dance party that will get the kids shouting\, “READ\, RENEW\, REPEAT”!!
URL:https://fortbragglibrary.org/event/chicken-lips-an-end-of-summer-reading-event/
LOCATION:Fort Bragg Library\, 499 E Laurel St\, Fort Bragg\, CA\, United States
CATEGORIES:Summer Reading
GEO:39.4456801;-123.8011111
X-APPLE-STRUCTURED-LOCATION;VALUE=URI;X-ADDRESS=Fort Bragg Library 499 E Laurel St Fort Bragg CA United States;X-APPLE-RADIUS=500;X-TITLE=499 E Laurel St:geo:-123.8011111,39.4456801
END:VEVENT
END:VCALENDAR