BEGIN:VCALENDAR
VERSION:2.0
PRODID:-//Fort Bragg Library - ECPv6.15.20//NONSGML v1.0//EN
CALSCALE:GREGORIAN
METHOD:PUBLISH
X-ORIGINAL-URL:https://fortbragglibrary.org
X-WR-CALDESC:Events for Fort Bragg Library
REFRESH-INTERVAL;VALUE=DURATION:PT1H
X-Robots-Tag:noindex
X-PUBLISHED-TTL:PT1H
BEGIN:VTIMEZONE
TZID:America/Los_Angeles
BEGIN:DAYLIGHT
TZOFFSETFROM:-0800
TZOFFSETTO:-0700
TZNAME:PDT
DTSTART:20230312T100000
END:DAYLIGHT
BEGIN:STANDARD
TZOFFSETFROM:-0700
TZOFFSETTO:-0800
TZNAME:PST
DTSTART:20231105T090000
END:STANDARD
BEGIN:DAYLIGHT
TZOFFSETFROM:-0800
TZOFFSETTO:-0700
TZNAME:PDT
DTSTART:20240310T100000
END:DAYLIGHT
BEGIN:STANDARD
TZOFFSETFROM:-0700
TZOFFSETTO:-0800
TZNAME:PST
DTSTART:20241103T090000
END:STANDARD
BEGIN:DAYLIGHT
TZOFFSETFROM:-0800
TZOFFSETTO:-0700
TZNAME:PDT
DTSTART:20250309T100000
END:DAYLIGHT
BEGIN:STANDARD
TZOFFSETFROM:-0700
TZOFFSETTO:-0800
TZNAME:PST
DTSTART:20251102T090000
END:STANDARD
END:VTIMEZONE
BEGIN:VEVENT
DTSTART;TZID=America/Los_Angeles:20240614T140000
DTEND;TZID=America/Los_Angeles:20240614T150000
DTSTAMP:20260423T125347
CREATED:20240511T213820Z
LAST-MODIFIED:20240511T213820Z
UID:10009955-1718373600-1718377200@fortbragglibrary.org
SUMMARY:Magical Nathaniel ~ a Summer Reading event
DESCRIPTION:Magical Nathaniel ~ a (pre) Summer Reading event\nFriday\, June 14\, 2024\, 2-3 pm\nNathaniel Segal is a professional magician who has been interested in magic since he was three. He has performed in over a thousand shows and won many magic competitions. He is a UC Berkeley math and theater graduate who now performs all over California. He designs and builds his own illusions\, incorporating circus skills\, and loads of audience participation to make each show a blast! \nJoin us at for this high-energy pre-Summer Reading performance.
URL:https://fortbragglibrary.org/event/magical-nathaniel/
LOCATION:Fort Bragg Library\, 499 E Laurel St\, Fort Bragg\, CA\, United States
CATEGORIES:Summer Reading
GEO:39.4456801;-123.8011111
X-APPLE-STRUCTURED-LOCATION;VALUE=URI;X-ADDRESS=Fort Bragg Library 499 E Laurel St Fort Bragg CA United States;X-APPLE-RADIUS=500;X-TITLE=499 E Laurel St:geo:-123.8011111,39.4456801
END:VEVENT
BEGIN:VEVENT
DTSTART;TZID=America/Los_Angeles:20240615T100000
DTEND;TZID=America/Los_Angeles:20240615T170000
DTSTAMP:20260423T125347
CREATED:20240601T004336Z
LAST-MODIFIED:20240601T004336Z
UID:10009958-1718445600-1718470800@fortbragglibrary.org
SUMMARY:Summer Reading Kick-Off
DESCRIPTION:Summer Reading Kick-Off\n\nSaturday\, June 15\, 2024\, 10-5 \nKids! Be one of the first people to sign up for the Summer Reading game and get special prizes (while supplies last)..Drop by anytime we are open\, sign-up\, get your reading log and start reading to win prizes!\n 
URL:https://fortbragglibrary.org/event/summer-reading-kick-off-4/
LOCATION:Fort Bragg Library\, 499 E Laurel St\, Fort Bragg\, CA\, United States
CATEGORIES:Summer Reading
GEO:39.4456801;-123.8011111
X-APPLE-STRUCTURED-LOCATION;VALUE=URI;X-ADDRESS=Fort Bragg Library 499 E Laurel St Fort Bragg CA United States;X-APPLE-RADIUS=500;X-TITLE=499 E Laurel St:geo:-123.8011111,39.4456801
END:VEVENT
BEGIN:VEVENT
DTSTART;TZID=America/Los_Angeles:20240622T140000
DTEND;TZID=America/Los_Angeles:20240622T150000
DTSTAMP:20260423T125347
CREATED:20240601T004541Z
LAST-MODIFIED:20240601T004541Z
UID:10009959-1719064800-1719068400@fortbragglibrary.org
SUMMARY:Animal Habitat Game
DESCRIPTION:
URL:https://fortbragglibrary.org/event/animal-habitat-game/
LOCATION:Fort Bragg Library\, 499 E Laurel St\, Fort Bragg\, CA\, United States
CATEGORIES:Summer Reading
GEO:39.4456801;-123.8011111
X-APPLE-STRUCTURED-LOCATION;VALUE=URI;X-ADDRESS=Fort Bragg Library 499 E Laurel St Fort Bragg CA United States;X-APPLE-RADIUS=500;X-TITLE=499 E Laurel St:geo:-123.8011111,39.4456801
END:VEVENT
BEGIN:VEVENT
DTSTART;TZID=America/Los_Angeles:20240629T140000
DTEND;TZID=America/Los_Angeles:20240629T150000
DTSTAMP:20260423T125347
CREATED:20240601T004844Z
LAST-MODIFIED:20240608T155826Z
UID:10009960-1719669600-1719673200@fortbragglibrary.org
SUMMARY:Sinister Science ~ a Summer Reading Event
DESCRIPTION: 
URL:https://fortbragglibrary.org/event/sinister-science-a-summer-reading-event/
LOCATION:Fort Bragg Library\, 499 E Laurel St\, Fort Bragg\, CA\, United States
CATEGORIES:Summer Reading
GEO:39.4456801;-123.8011111
X-APPLE-STRUCTURED-LOCATION;VALUE=URI;X-ADDRESS=Fort Bragg Library 499 E Laurel St Fort Bragg CA United States;X-APPLE-RADIUS=500;X-TITLE=499 E Laurel St:geo:-123.8011111,39.4456801
END:VEVENT
END:VCALENDAR