BEGIN:VCALENDAR
VERSION:2.0
PRODID:-//Fort Bragg Library - ECPv6.15.20//NONSGML v1.0//EN
CALSCALE:GREGORIAN
METHOD:PUBLISH
X-ORIGINAL-URL:https://fortbragglibrary.org
X-WR-CALDESC:Events for Fort Bragg Library
REFRESH-INTERVAL;VALUE=DURATION:PT1H
X-Robots-Tag:noindex
X-PUBLISHED-TTL:PT1H
BEGIN:VTIMEZONE
TZID:America/Los_Angeles
BEGIN:DAYLIGHT
TZOFFSETFROM:-0800
TZOFFSETTO:-0700
TZNAME:PDT
DTSTART:20230312T100000
END:DAYLIGHT
BEGIN:STANDARD
TZOFFSETFROM:-0700
TZOFFSETTO:-0800
TZNAME:PST
DTSTART:20231105T090000
END:STANDARD
BEGIN:DAYLIGHT
TZOFFSETFROM:-0800
TZOFFSETTO:-0700
TZNAME:PDT
DTSTART:20240310T100000
END:DAYLIGHT
BEGIN:STANDARD
TZOFFSETFROM:-0700
TZOFFSETTO:-0800
TZNAME:PST
DTSTART:20241103T090000
END:STANDARD
BEGIN:DAYLIGHT
TZOFFSETFROM:-0800
TZOFFSETTO:-0700
TZNAME:PDT
DTSTART:20250309T100000
END:DAYLIGHT
BEGIN:STANDARD
TZOFFSETFROM:-0700
TZOFFSETTO:-0800
TZNAME:PST
DTSTART:20251102T090000
END:STANDARD
END:VTIMEZONE
BEGIN:VEVENT
DTSTART;TZID=America/Los_Angeles:20240809T103000
DTEND;TZID=America/Los_Angeles:20240809T110000
DTSTAMP:20260420T065545
CREATED:20240818T202811Z
LAST-MODIFIED:20241024T192828Z
UID:10009213-1723199400-1723201200@fortbragglibrary.org
SUMMARY:Storytime
DESCRIPTION:STORYTIME\nMOST FRIDAYS & SATURDAYS\n10:30-11\n\nJoin us for some fun stories\, fingerplays and songs.\nStorytime is for kids and their grown-ups.\nStories are geared for the 0-6 age range but older siblings are always welcome. \n\n  \n\n  \n 
URL:https://fortbragglibrary.org/event/storytime-3-2021-09-04-2022-05-07-2022-08-13-2022-08-19-2-2/2024-08-09/
LOCATION:Fort Bragg Library\, 499 E Laurel St\, Fort Bragg\, CA\, United States
CATEGORIES:Storytimes
GEO:39.4456801;-123.8011111
X-APPLE-STRUCTURED-LOCATION;VALUE=URI;X-ADDRESS=Fort Bragg Library 499 E Laurel St Fort Bragg CA United States;X-APPLE-RADIUS=500;X-TITLE=499 E Laurel St:geo:-123.8011111,39.4456801
END:VEVENT
BEGIN:VEVENT
DTSTART;TZID=America/Los_Angeles:20240601T103000
DTEND;TZID=America/Los_Angeles:20240601T110000
DTSTAMP:20260420T065545
CREATED:20210618T174236Z
LAST-MODIFIED:20240426T192704Z
UID:10004031-1717237800-1717239600@fortbragglibrary.org
SUMMARY:Count on Storytime
DESCRIPTION:COUNT ON STORYTIME\nFRIDAY & SATURDAY\nMay 31 & June 1\n10:30-11\nJoin us for these special storytimes exploring math concepts.\n\nJoin us for some fun stories\, fingerplays and songs.\nStorytime is for kids and their grown-ups.\nStories are geared for the 0-6 age range but older siblings are always welcome. \n\n 
URL:https://fortbragglibrary.org/event/storytime-3-2021-09-04-2022-05-07-2022-08-13-2024-06-01/
LOCATION:Fort Bragg Library\, 499 E Laurel St\, Fort Bragg\, CA\, United States
CATEGORIES:Storytimes
GEO:39.4456801;-123.8011111
X-APPLE-STRUCTURED-LOCATION;VALUE=URI;X-ADDRESS=Fort Bragg Library 499 E Laurel St Fort Bragg CA United States;X-APPLE-RADIUS=500;X-TITLE=499 E Laurel St:geo:-123.8011111,39.4456801
END:VEVENT
BEGIN:VEVENT
DTSTART;TZID=America/Los_Angeles:20240531T103000
DTEND;TZID=America/Los_Angeles:20240531T110000
DTSTAMP:20260420T065545
CREATED:20210618T174236Z
LAST-MODIFIED:20240426T192719Z
UID:10004010-1717151400-1717153200@fortbragglibrary.org
SUMMARY:Count on Storytime
DESCRIPTION:COUNT ON STORYTIME\nFRIDAY & SATURDAY\nMay 31 & June 1\n10:30-11\nJoin us for these special storytimes exploring math concepts. \n\nJoin us for some fun stories\, fingerplays and songs.\nStorytime is for kids and their grown-ups.\nStories are geared for the 0-6 age range but older siblings are always welcome. \n\n 
URL:https://fortbragglibrary.org/event/storytime-3-2021-09-04-2022-05-07-2022-08-13-2024-05-31/
LOCATION:Fort Bragg Library\, 499 E Laurel St\, Fort Bragg\, CA\, United States
CATEGORIES:Storytimes
GEO:39.4456801;-123.8011111
X-APPLE-STRUCTURED-LOCATION;VALUE=URI;X-ADDRESS=Fort Bragg Library 499 E Laurel St Fort Bragg CA United States;X-APPLE-RADIUS=500;X-TITLE=499 E Laurel St:geo:-123.8011111,39.4456801
END:VEVENT
END:VCALENDAR