BEGIN:VCALENDAR
VERSION:2.0
PRODID:-//Fort Bragg Library - ECPv6.15.20//NONSGML v1.0//EN
CALSCALE:GREGORIAN
METHOD:PUBLISH
X-WR-CALNAME:Fort Bragg Library
X-ORIGINAL-URL:https://fortbragglibrary.org
X-WR-CALDESC:Events for Fort Bragg Library
REFRESH-INTERVAL;VALUE=DURATION:PT1H
X-Robots-Tag:noindex
X-PUBLISHED-TTL:PT1H
BEGIN:VTIMEZONE
TZID:America/Los_Angeles
BEGIN:DAYLIGHT
TZOFFSETFROM:-0800
TZOFFSETTO:-0700
TZNAME:PDT
DTSTART:20240310T100000
END:DAYLIGHT
BEGIN:STANDARD
TZOFFSETFROM:-0700
TZOFFSETTO:-0800
TZNAME:PST
DTSTART:20241103T090000
END:STANDARD
BEGIN:DAYLIGHT
TZOFFSETFROM:-0800
TZOFFSETTO:-0700
TZNAME:PDT
DTSTART:20250309T100000
END:DAYLIGHT
BEGIN:STANDARD
TZOFFSETFROM:-0700
TZOFFSETTO:-0800
TZNAME:PST
DTSTART:20251102T090000
END:STANDARD
BEGIN:DAYLIGHT
TZOFFSETFROM:-0800
TZOFFSETTO:-0700
TZNAME:PDT
DTSTART:20260308T100000
END:DAYLIGHT
BEGIN:STANDARD
TZOFFSETFROM:-0700
TZOFFSETTO:-0800
TZNAME:PST
DTSTART:20261101T090000
END:STANDARD
END:VTIMEZONE
BEGIN:VEVENT
DTSTART;TZID=America/Los_Angeles:20250301T103000
DTEND;TZID=America/Los_Angeles:20250301T110000
DTSTAMP:20260420T023524
CREATED:20250202T025824Z
LAST-MODIFIED:20250202T025825Z
UID:10010406-1740825000-1740826800@fortbragglibrary.org
SUMMARY:Baby Storytime
DESCRIPTION:BABY STORYTIME\nFRI & SAT\nFeb 28 & Mar 1\, 2025\n10:30-11\n\nJoin us for some fun stories\, fingerplays and songs.\nStorytime is for kids and their grown-ups.\nStories are geared for the 0-6 age range but older siblings are always welcome. \n\n  \n\n  \n 
URL:https://fortbragglibrary.org/event/storytime-5/
LOCATION:Fort Bragg Library\, 499 E Laurel St\, Fort Bragg\, CA\, United States
CATEGORIES:Storytimes
GEO:39.4456801;-123.8011111
X-APPLE-STRUCTURED-LOCATION;VALUE=URI;X-ADDRESS=Fort Bragg Library 499 E Laurel St Fort Bragg CA United States;X-APPLE-RADIUS=500;X-TITLE=499 E Laurel St:geo:-123.8011111,39.4456801
END:VEVENT
BEGIN:VEVENT
DTSTART;TZID=America/Los_Angeles:20250307T103000
DTEND;TZID=America/Los_Angeles:20250307T110000
DTSTAMP:20260420T023524
CREATED:20241228T004931Z
LAST-MODIFIED:20241228T004931Z
UID:10010422-1741343400-1741345200@fortbragglibrary.org
SUMMARY:Storytime
DESCRIPTION:STORYTIME\nMOST FRIDAYS & SATURDAYS\n10:30-11\n\nJoin us for some fun stories\, fingerplays and songs.\nStorytime is for kids and their grown-ups.\nStories are geared for the 0-6 age range but older siblings are always welcome. \n\n  \n\n  \n 
URL:https://fortbragglibrary.org/event/storytime-2/2025-03-07/
LOCATION:Fort Bragg Library\, 499 E Laurel St\, Fort Bragg\, CA\, United States
CATEGORIES:Storytimes
GEO:39.4456801;-123.8011111
X-APPLE-STRUCTURED-LOCATION;VALUE=URI;X-ADDRESS=Fort Bragg Library 499 E Laurel St Fort Bragg CA United States;X-APPLE-RADIUS=500;X-TITLE=499 E Laurel St:geo:-123.8011111,39.4456801
END:VEVENT
BEGIN:VEVENT
DTSTART;TZID=America/Los_Angeles:20250308T103000
DTEND;TZID=America/Los_Angeles:20250308T110000
DTSTAMP:20260420T023524
CREATED:20241228T002617Z
LAST-MODIFIED:20241228T003801Z
UID:10010407-1741429800-1741431600@fortbragglibrary.org
SUMMARY:Storytime
DESCRIPTION:STORYTIME\nMOST FRIDAYS & SATURDAYS\n10:30-11\n\nJoin us for some fun stories\, fingerplays and songs.\nStorytime is for kids and their grown-ups.\nStories are geared for the 0-6 age range but older siblings are always welcome. \n\n  \n\n  \n 
URL:https://fortbragglibrary.org/event/storytime/2025-03-08/
LOCATION:Fort Bragg Library\, 499 E Laurel St\, Fort Bragg\, CA\, United States
CATEGORIES:Storytimes
GEO:39.4456801;-123.8011111
X-APPLE-STRUCTURED-LOCATION;VALUE=URI;X-ADDRESS=Fort Bragg Library 499 E Laurel St Fort Bragg CA United States;X-APPLE-RADIUS=500;X-TITLE=499 E Laurel St:geo:-123.8011111,39.4456801
END:VEVENT
BEGIN:VEVENT
DTSTART;TZID=America/Los_Angeles:20250314T103000
DTEND;TZID=America/Los_Angeles:20250314T110000
DTSTAMP:20260420T023524
CREATED:20241228T004931Z
LAST-MODIFIED:20241228T004931Z
UID:10010423-1741948200-1741950000@fortbragglibrary.org
SUMMARY:Storytime
DESCRIPTION:STORYTIME\nMOST FRIDAYS & SATURDAYS\n10:30-11\n\nJoin us for some fun stories\, fingerplays and songs.\nStorytime is for kids and their grown-ups.\nStories are geared for the 0-6 age range but older siblings are always welcome. \n\n  \n\n  \n 
URL:https://fortbragglibrary.org/event/storytime-2/2025-03-14/
LOCATION:Fort Bragg Library\, 499 E Laurel St\, Fort Bragg\, CA\, United States
CATEGORIES:Storytimes
GEO:39.4456801;-123.8011111
X-APPLE-STRUCTURED-LOCATION;VALUE=URI;X-ADDRESS=Fort Bragg Library 499 E Laurel St Fort Bragg CA United States;X-APPLE-RADIUS=500;X-TITLE=499 E Laurel St:geo:-123.8011111,39.4456801
END:VEVENT
BEGIN:VEVENT
DTSTART;TZID=America/Los_Angeles:20250315T103000
DTEND;TZID=America/Los_Angeles:20250315T110000
DTSTAMP:20260420T023524
CREATED:20241228T002617Z
LAST-MODIFIED:20241228T003801Z
UID:10010408-1742034600-1742036400@fortbragglibrary.org
SUMMARY:Storytime
DESCRIPTION:STORYTIME\nMOST FRIDAYS & SATURDAYS\n10:30-11\n\nJoin us for some fun stories\, fingerplays and songs.\nStorytime is for kids and their grown-ups.\nStories are geared for the 0-6 age range but older siblings are always welcome. \n\n  \n\n  \n 
URL:https://fortbragglibrary.org/event/storytime/2025-03-15/
LOCATION:Fort Bragg Library\, 499 E Laurel St\, Fort Bragg\, CA\, United States
CATEGORIES:Storytimes
GEO:39.4456801;-123.8011111
X-APPLE-STRUCTURED-LOCATION;VALUE=URI;X-ADDRESS=Fort Bragg Library 499 E Laurel St Fort Bragg CA United States;X-APPLE-RADIUS=500;X-TITLE=499 E Laurel St:geo:-123.8011111,39.4456801
END:VEVENT
BEGIN:VEVENT
DTSTART;TZID=America/Los_Angeles:20250321T103000
DTEND;TZID=America/Los_Angeles:20250321T110000
DTSTAMP:20260420T023524
CREATED:20241228T004931Z
LAST-MODIFIED:20241228T004931Z
UID:10010424-1742553000-1742554800@fortbragglibrary.org
SUMMARY:Storytime
DESCRIPTION:STORYTIME\nMOST FRIDAYS & SATURDAYS\n10:30-11\n\nJoin us for some fun stories\, fingerplays and songs.\nStorytime is for kids and their grown-ups.\nStories are geared for the 0-6 age range but older siblings are always welcome. \n\n  \n\n  \n 
URL:https://fortbragglibrary.org/event/storytime-2/2025-03-21/
LOCATION:Fort Bragg Library\, 499 E Laurel St\, Fort Bragg\, CA\, United States
CATEGORIES:Storytimes
GEO:39.4456801;-123.8011111
X-APPLE-STRUCTURED-LOCATION;VALUE=URI;X-ADDRESS=Fort Bragg Library 499 E Laurel St Fort Bragg CA United States;X-APPLE-RADIUS=500;X-TITLE=499 E Laurel St:geo:-123.8011111,39.4456801
END:VEVENT
BEGIN:VEVENT
DTSTART;TZID=America/Los_Angeles:20250322T103000
DTEND;TZID=America/Los_Angeles:20250322T110000
DTSTAMP:20260420T023524
CREATED:20241228T002617Z
LAST-MODIFIED:20241228T003801Z
UID:10010409-1742639400-1742641200@fortbragglibrary.org
SUMMARY:Storytime
DESCRIPTION:STORYTIME\nMOST FRIDAYS & SATURDAYS\n10:30-11\n\nJoin us for some fun stories\, fingerplays and songs.\nStorytime is for kids and their grown-ups.\nStories are geared for the 0-6 age range but older siblings are always welcome. \n\n  \n\n  \n 
URL:https://fortbragglibrary.org/event/storytime/2025-03-22/
LOCATION:Fort Bragg Library\, 499 E Laurel St\, Fort Bragg\, CA\, United States
CATEGORIES:Storytimes
GEO:39.4456801;-123.8011111
X-APPLE-STRUCTURED-LOCATION;VALUE=URI;X-ADDRESS=Fort Bragg Library 499 E Laurel St Fort Bragg CA United States;X-APPLE-RADIUS=500;X-TITLE=499 E Laurel St:geo:-123.8011111,39.4456801
END:VEVENT
BEGIN:VEVENT
DTSTART;TZID=America/Los_Angeles:20250329T103000
DTEND;TZID=America/Los_Angeles:20250329T110000
DTSTAMP:20260420T023524
CREATED:20241228T002617Z
LAST-MODIFIED:20241228T003801Z
UID:10010410-1743244200-1743246000@fortbragglibrary.org
SUMMARY:Storytime
DESCRIPTION:STORYTIME\nMOST FRIDAYS & SATURDAYS\n10:30-11\n\nJoin us for some fun stories\, fingerplays and songs.\nStorytime is for kids and their grown-ups.\nStories are geared for the 0-6 age range but older siblings are always welcome. \n\n  \n\n  \n 
URL:https://fortbragglibrary.org/event/storytime/2025-03-29/
LOCATION:Fort Bragg Library\, 499 E Laurel St\, Fort Bragg\, CA\, United States
CATEGORIES:Storytimes
GEO:39.4456801;-123.8011111
X-APPLE-STRUCTURED-LOCATION;VALUE=URI;X-ADDRESS=Fort Bragg Library 499 E Laurel St Fort Bragg CA United States;X-APPLE-RADIUS=500;X-TITLE=499 E Laurel St:geo:-123.8011111,39.4456801
END:VEVENT
END:VCALENDAR