BEGIN:VCALENDAR
VERSION:2.0
PRODID:-//Fort Bragg Library - ECPv6.15.20//NONSGML v1.0//EN
CALSCALE:GREGORIAN
METHOD:PUBLISH
X-ORIGINAL-URL:https://fortbragglibrary.org
X-WR-CALDESC:Events for Fort Bragg Library
REFRESH-INTERVAL;VALUE=DURATION:PT1H
X-Robots-Tag:noindex
X-PUBLISHED-TTL:PT1H
BEGIN:VTIMEZONE
TZID:America/Los_Angeles
BEGIN:DAYLIGHT
TZOFFSETFROM:-0800
TZOFFSETTO:-0700
TZNAME:PDT
DTSTART:20240310T100000
END:DAYLIGHT
BEGIN:STANDARD
TZOFFSETFROM:-0700
TZOFFSETTO:-0800
TZNAME:PST
DTSTART:20241103T090000
END:STANDARD
BEGIN:DAYLIGHT
TZOFFSETFROM:-0800
TZOFFSETTO:-0700
TZNAME:PDT
DTSTART:20250309T100000
END:DAYLIGHT
BEGIN:STANDARD
TZOFFSETFROM:-0700
TZOFFSETTO:-0800
TZNAME:PST
DTSTART:20251102T090000
END:STANDARD
BEGIN:DAYLIGHT
TZOFFSETFROM:-0800
TZOFFSETTO:-0700
TZNAME:PDT
DTSTART:20260308T100000
END:DAYLIGHT
BEGIN:STANDARD
TZOFFSETFROM:-0700
TZOFFSETTO:-0800
TZNAME:PST
DTSTART:20261101T090000
END:STANDARD
END:VTIMEZONE
BEGIN:VEVENT
DTSTART;TZID=America/Los_Angeles:20250311T140000
DTEND;TZID=America/Los_Angeles:20250311T170000
DTSTAMP:20260422T145100
CREATED:20250202T011656Z
LAST-MODIFIED:20250202T011656Z
UID:10010518-1741701600-1741712400@fortbragglibrary.org
SUMMARY:LEGO® & Games
DESCRIPTION:LEGO® & Games\nMost Tuesdays\n2-5 pm\nKids and families!  \nCheck the calendar for updates.
URL:https://fortbragglibrary.org/event/lego-games/2025-03-11/
LOCATION:Fort Bragg Library\, 499 E Laurel St\, Fort Bragg\, CA\, United States
CATEGORIES:LEGO® & Games
GEO:39.4456801;-123.8011111
X-APPLE-STRUCTURED-LOCATION;VALUE=URI;X-ADDRESS=Fort Bragg Library 499 E Laurel St Fort Bragg CA United States;X-APPLE-RADIUS=500;X-TITLE=499 E Laurel St:geo:-123.8011111,39.4456801
END:VEVENT
BEGIN:VEVENT
DTSTART;TZID=America/Los_Angeles:20250318T140000
DTEND;TZID=America/Los_Angeles:20250318T170000
DTSTAMP:20260422T145100
CREATED:20250202T011656Z
LAST-MODIFIED:20250202T011656Z
UID:10010519-1742306400-1742317200@fortbragglibrary.org
SUMMARY:LEGO® & Games
DESCRIPTION:LEGO® & Games\nMost Tuesdays\n2-5 pm\nKids and families!  \nCheck the calendar for updates.
URL:https://fortbragglibrary.org/event/lego-games/2025-03-18/
LOCATION:Fort Bragg Library\, 499 E Laurel St\, Fort Bragg\, CA\, United States
CATEGORIES:LEGO® & Games
GEO:39.4456801;-123.8011111
X-APPLE-STRUCTURED-LOCATION;VALUE=URI;X-ADDRESS=Fort Bragg Library 499 E Laurel St Fort Bragg CA United States;X-APPLE-RADIUS=500;X-TITLE=499 E Laurel St:geo:-123.8011111,39.4456801
END:VEVENT
BEGIN:VEVENT
DTSTART;TZID=America/Los_Angeles:20250325T140000
DTEND;TZID=America/Los_Angeles:20250325T170000
DTSTAMP:20260422T145100
CREATED:20250202T011656Z
LAST-MODIFIED:20250202T011656Z
UID:10010520-1742911200-1742922000@fortbragglibrary.org
SUMMARY:LEGO® & Games
DESCRIPTION:LEGO® & Games\nMost Tuesdays\n2-5 pm\nKids and families!  \nCheck the calendar for updates.
URL:https://fortbragglibrary.org/event/lego-games/2025-03-25/
LOCATION:Fort Bragg Library\, 499 E Laurel St\, Fort Bragg\, CA\, United States
CATEGORIES:LEGO® & Games
GEO:39.4456801;-123.8011111
X-APPLE-STRUCTURED-LOCATION;VALUE=URI;X-ADDRESS=Fort Bragg Library 499 E Laurel St Fort Bragg CA United States;X-APPLE-RADIUS=500;X-TITLE=499 E Laurel St:geo:-123.8011111,39.4456801
END:VEVENT
BEGIN:VEVENT
DTSTART;TZID=America/Los_Angeles:20250401T140000
DTEND;TZID=America/Los_Angeles:20250401T170000
DTSTAMP:20260422T145100
CREATED:20250417T213445Z
LAST-MODIFIED:20250612T185522Z
UID:10010983-1743516000-1743526800@fortbragglibrary.org
SUMMARY:LEGO® and Games
DESCRIPTION:LEGO® & Games\nMost Tuesdays\n2-5 pm\nKids and families!  \nCheck the calendar for updates.
URL:https://fortbragglibrary.org/event/lego-and-games/2025-04-01/
LOCATION:Fort Bragg Library\, 499 E Laurel St\, Fort Bragg\, CA\, United States
CATEGORIES:LEGO® & Games
GEO:39.4456801;-123.8011111
X-APPLE-STRUCTURED-LOCATION;VALUE=URI;X-ADDRESS=Fort Bragg Library 499 E Laurel St Fort Bragg CA United States;X-APPLE-RADIUS=500;X-TITLE=499 E Laurel St:geo:-123.8011111,39.4456801
END:VEVENT
BEGIN:VEVENT
DTSTART;TZID=America/Los_Angeles:20250408T140000
DTEND;TZID=America/Los_Angeles:20250408T170000
DTSTAMP:20260422T145100
CREATED:20250417T213445Z
LAST-MODIFIED:20250612T185522Z
UID:10010984-1744120800-1744131600@fortbragglibrary.org
SUMMARY:LEGO® and Games
DESCRIPTION:LEGO® & Games\nMost Tuesdays\n2-5 pm\nKids and families!  \nCheck the calendar for updates.
URL:https://fortbragglibrary.org/event/lego-and-games/2025-04-08/
LOCATION:Fort Bragg Library\, 499 E Laurel St\, Fort Bragg\, CA\, United States
CATEGORIES:LEGO® & Games
GEO:39.4456801;-123.8011111
X-APPLE-STRUCTURED-LOCATION;VALUE=URI;X-ADDRESS=Fort Bragg Library 499 E Laurel St Fort Bragg CA United States;X-APPLE-RADIUS=500;X-TITLE=499 E Laurel St:geo:-123.8011111,39.4456801
END:VEVENT
BEGIN:VEVENT
DTSTART;TZID=America/Los_Angeles:20250415T140000
DTEND;TZID=America/Los_Angeles:20250415T170000
DTSTAMP:20260422T145100
CREATED:20250417T213445Z
LAST-MODIFIED:20250612T185522Z
UID:10010985-1744725600-1744736400@fortbragglibrary.org
SUMMARY:LEGO® and Games
DESCRIPTION:LEGO® & Games\nMost Tuesdays\n2-5 pm\nKids and families!  \nCheck the calendar for updates.
URL:https://fortbragglibrary.org/event/lego-and-games/2025-04-15/
LOCATION:Fort Bragg Library\, 499 E Laurel St\, Fort Bragg\, CA\, United States
CATEGORIES:LEGO® & Games
GEO:39.4456801;-123.8011111
X-APPLE-STRUCTURED-LOCATION;VALUE=URI;X-ADDRESS=Fort Bragg Library 499 E Laurel St Fort Bragg CA United States;X-APPLE-RADIUS=500;X-TITLE=499 E Laurel St:geo:-123.8011111,39.4456801
END:VEVENT
BEGIN:VEVENT
DTSTART;TZID=America/Los_Angeles:20250422T140000
DTEND;TZID=America/Los_Angeles:20250422T170000
DTSTAMP:20260422T145100
CREATED:20250417T213445Z
LAST-MODIFIED:20250612T185522Z
UID:10010986-1745330400-1745341200@fortbragglibrary.org
SUMMARY:LEGO® and Games
DESCRIPTION:LEGO® & Games\nMost Tuesdays\n2-5 pm\nKids and families!  \nCheck the calendar for updates.
URL:https://fortbragglibrary.org/event/lego-and-games/2025-04-22/
LOCATION:Fort Bragg Library\, 499 E Laurel St\, Fort Bragg\, CA\, United States
CATEGORIES:LEGO® & Games
GEO:39.4456801;-123.8011111
X-APPLE-STRUCTURED-LOCATION;VALUE=URI;X-ADDRESS=Fort Bragg Library 499 E Laurel St Fort Bragg CA United States;X-APPLE-RADIUS=500;X-TITLE=499 E Laurel St:geo:-123.8011111,39.4456801
END:VEVENT
BEGIN:VEVENT
DTSTART;TZID=America/Los_Angeles:20250429T140000
DTEND;TZID=America/Los_Angeles:20250429T170000
DTSTAMP:20260422T145100
CREATED:20250417T213445Z
LAST-MODIFIED:20250612T185522Z
UID:10010987-1745935200-1745946000@fortbragglibrary.org
SUMMARY:LEGO® and Games
DESCRIPTION:LEGO® & Games\nMost Tuesdays\n2-5 pm\nKids and families!  \nCheck the calendar for updates.
URL:https://fortbragglibrary.org/event/lego-and-games/2025-04-29/
LOCATION:Fort Bragg Library\, 499 E Laurel St\, Fort Bragg\, CA\, United States
CATEGORIES:LEGO® & Games
GEO:39.4456801;-123.8011111
X-APPLE-STRUCTURED-LOCATION;VALUE=URI;X-ADDRESS=Fort Bragg Library 499 E Laurel St Fort Bragg CA United States;X-APPLE-RADIUS=500;X-TITLE=499 E Laurel St:geo:-123.8011111,39.4456801
END:VEVENT
BEGIN:VEVENT
DTSTART;TZID=America/Los_Angeles:20250506T140000
DTEND;TZID=America/Los_Angeles:20250506T170000
DTSTAMP:20260422T145100
CREATED:20250417T213445Z
LAST-MODIFIED:20250612T185522Z
UID:10010988-1746540000-1746550800@fortbragglibrary.org
SUMMARY:LEGO® and Games
DESCRIPTION:LEGO® & Games\nMost Tuesdays\n2-5 pm\nKids and families!  \nCheck the calendar for updates.
URL:https://fortbragglibrary.org/event/lego-and-games/2025-05-06/
LOCATION:Fort Bragg Library\, 499 E Laurel St\, Fort Bragg\, CA\, United States
CATEGORIES:LEGO® & Games
GEO:39.4456801;-123.8011111
X-APPLE-STRUCTURED-LOCATION;VALUE=URI;X-ADDRESS=Fort Bragg Library 499 E Laurel St Fort Bragg CA United States;X-APPLE-RADIUS=500;X-TITLE=499 E Laurel St:geo:-123.8011111,39.4456801
END:VEVENT
BEGIN:VEVENT
DTSTART;TZID=America/Los_Angeles:20250513T140000
DTEND;TZID=America/Los_Angeles:20250513T170000
DTSTAMP:20260422T145100
CREATED:20250417T213445Z
LAST-MODIFIED:20250612T185522Z
UID:10010989-1747144800-1747155600@fortbragglibrary.org
SUMMARY:LEGO® and Games
DESCRIPTION:LEGO® & Games\nMost Tuesdays\n2-5 pm\nKids and families!  \nCheck the calendar for updates.
URL:https://fortbragglibrary.org/event/lego-and-games/2025-05-13/
LOCATION:Fort Bragg Library\, 499 E Laurel St\, Fort Bragg\, CA\, United States
CATEGORIES:LEGO® & Games
GEO:39.4456801;-123.8011111
X-APPLE-STRUCTURED-LOCATION;VALUE=URI;X-ADDRESS=Fort Bragg Library 499 E Laurel St Fort Bragg CA United States;X-APPLE-RADIUS=500;X-TITLE=499 E Laurel St:geo:-123.8011111,39.4456801
END:VEVENT
BEGIN:VEVENT
DTSTART;TZID=America/Los_Angeles:20250520T140000
DTEND;TZID=America/Los_Angeles:20250520T170000
DTSTAMP:20260422T145100
CREATED:20250417T213445Z
LAST-MODIFIED:20250612T185522Z
UID:10010990-1747749600-1747760400@fortbragglibrary.org
SUMMARY:LEGO® and Games
DESCRIPTION:LEGO® & Games\nMost Tuesdays\n2-5 pm\nKids and families!  \nCheck the calendar for updates.
URL:https://fortbragglibrary.org/event/lego-and-games/2025-05-20/
LOCATION:Fort Bragg Library\, 499 E Laurel St\, Fort Bragg\, CA\, United States
CATEGORIES:LEGO® & Games
GEO:39.4456801;-123.8011111
X-APPLE-STRUCTURED-LOCATION;VALUE=URI;X-ADDRESS=Fort Bragg Library 499 E Laurel St Fort Bragg CA United States;X-APPLE-RADIUS=500;X-TITLE=499 E Laurel St:geo:-123.8011111,39.4456801
END:VEVENT
BEGIN:VEVENT
DTSTART;TZID=America/Los_Angeles:20250603T140000
DTEND;TZID=America/Los_Angeles:20250603T170000
DTSTAMP:20260422T145100
CREATED:20250417T213445Z
LAST-MODIFIED:20250612T185522Z
UID:10010992-1748959200-1748970000@fortbragglibrary.org
SUMMARY:LEGO® and Games
DESCRIPTION:LEGO® & Games\nMost Tuesdays\n2-5 pm\nKids and families!  \nCheck the calendar for updates.
URL:https://fortbragglibrary.org/event/lego-and-games/2025-06-03/
LOCATION:Fort Bragg Library\, 499 E Laurel St\, Fort Bragg\, CA\, United States
CATEGORIES:LEGO® & Games
GEO:39.4456801;-123.8011111
X-APPLE-STRUCTURED-LOCATION;VALUE=URI;X-ADDRESS=Fort Bragg Library 499 E Laurel St Fort Bragg CA United States;X-APPLE-RADIUS=500;X-TITLE=499 E Laurel St:geo:-123.8011111,39.4456801
END:VEVENT
BEGIN:VEVENT
DTSTART;TZID=America/Los_Angeles:20250610T140000
DTEND;TZID=America/Los_Angeles:20250610T170000
DTSTAMP:20260422T145100
CREATED:20250417T213445Z
LAST-MODIFIED:20250612T185522Z
UID:10010993-1749564000-1749574800@fortbragglibrary.org
SUMMARY:LEGO® and Games
DESCRIPTION:LEGO® & Games\nMost Tuesdays\n2-5 pm\nKids and families!  \nCheck the calendar for updates.
URL:https://fortbragglibrary.org/event/lego-and-games/2025-06-10/
LOCATION:Fort Bragg Library\, 499 E Laurel St\, Fort Bragg\, CA\, United States
CATEGORIES:LEGO® & Games
GEO:39.4456801;-123.8011111
X-APPLE-STRUCTURED-LOCATION;VALUE=URI;X-ADDRESS=Fort Bragg Library 499 E Laurel St Fort Bragg CA United States;X-APPLE-RADIUS=500;X-TITLE=499 E Laurel St:geo:-123.8011111,39.4456801
END:VEVENT
BEGIN:VEVENT
DTSTART;TZID=America/Los_Angeles:20250617T140000
DTEND;TZID=America/Los_Angeles:20250617T170000
DTSTAMP:20260422T145100
CREATED:20250417T213445Z
LAST-MODIFIED:20250612T185522Z
UID:10010994-1750168800-1750179600@fortbragglibrary.org
SUMMARY:LEGO® and Games
DESCRIPTION:LEGO® & Games\nMost Tuesdays\n2-5 pm\nKids and families!  \nCheck the calendar for updates.
URL:https://fortbragglibrary.org/event/lego-and-games/2025-06-17/
LOCATION:Fort Bragg Library\, 499 E Laurel St\, Fort Bragg\, CA\, United States
CATEGORIES:LEGO® & Games
GEO:39.4456801;-123.8011111
X-APPLE-STRUCTURED-LOCATION;VALUE=URI;X-ADDRESS=Fort Bragg Library 499 E Laurel St Fort Bragg CA United States;X-APPLE-RADIUS=500;X-TITLE=499 E Laurel St:geo:-123.8011111,39.4456801
END:VEVENT
BEGIN:VEVENT
DTSTART;TZID=America/Los_Angeles:20250624T140000
DTEND;TZID=America/Los_Angeles:20250624T170000
DTSTAMP:20260422T145100
CREATED:20250417T213445Z
LAST-MODIFIED:20250612T185522Z
UID:10010995-1750773600-1750784400@fortbragglibrary.org
SUMMARY:LEGO® and Games
DESCRIPTION:LEGO® & Games\nMost Tuesdays\n2-5 pm\nKids and families!  \nCheck the calendar for updates.
URL:https://fortbragglibrary.org/event/lego-and-games/2025-06-24/
LOCATION:Fort Bragg Library\, 499 E Laurel St\, Fort Bragg\, CA\, United States
CATEGORIES:LEGO® & Games
GEO:39.4456801;-123.8011111
X-APPLE-STRUCTURED-LOCATION;VALUE=URI;X-ADDRESS=Fort Bragg Library 499 E Laurel St Fort Bragg CA United States;X-APPLE-RADIUS=500;X-TITLE=499 E Laurel St:geo:-123.8011111,39.4456801
END:VEVENT
BEGIN:VEVENT
DTSTART;TZID=America/Los_Angeles:20250701T140000
DTEND;TZID=America/Los_Angeles:20250701T170000
DTSTAMP:20260422T145100
CREATED:20250417T213445Z
LAST-MODIFIED:20250612T185522Z
UID:10010996-1751378400-1751389200@fortbragglibrary.org
SUMMARY:LEGO® and Games
DESCRIPTION:LEGO® & Games\nMost Tuesdays\n2-5 pm\nKids and families!  \nCheck the calendar for updates.
URL:https://fortbragglibrary.org/event/lego-and-games/2025-07-01/
LOCATION:Fort Bragg Library\, 499 E Laurel St\, Fort Bragg\, CA\, United States
CATEGORIES:LEGO® & Games
GEO:39.4456801;-123.8011111
X-APPLE-STRUCTURED-LOCATION;VALUE=URI;X-ADDRESS=Fort Bragg Library 499 E Laurel St Fort Bragg CA United States;X-APPLE-RADIUS=500;X-TITLE=499 E Laurel St:geo:-123.8011111,39.4456801
END:VEVENT
BEGIN:VEVENT
DTSTART;TZID=America/Los_Angeles:20250708T140000
DTEND;TZID=America/Los_Angeles:20250708T170000
DTSTAMP:20260422T145100
CREATED:20250417T213445Z
LAST-MODIFIED:20250612T185522Z
UID:10010997-1751983200-1751994000@fortbragglibrary.org
SUMMARY:LEGO® and Games
DESCRIPTION:LEGO® & Games\nMost Tuesdays\n2-5 pm\nKids and families!  \nCheck the calendar for updates.
URL:https://fortbragglibrary.org/event/lego-and-games/2025-07-08/
LOCATION:Fort Bragg Library\, 499 E Laurel St\, Fort Bragg\, CA\, United States
CATEGORIES:LEGO® & Games
GEO:39.4456801;-123.8011111
X-APPLE-STRUCTURED-LOCATION;VALUE=URI;X-ADDRESS=Fort Bragg Library 499 E Laurel St Fort Bragg CA United States;X-APPLE-RADIUS=500;X-TITLE=499 E Laurel St:geo:-123.8011111,39.4456801
END:VEVENT
BEGIN:VEVENT
DTSTART;TZID=America/Los_Angeles:20250715T140000
DTEND;TZID=America/Los_Angeles:20250715T170000
DTSTAMP:20260422T145100
CREATED:20250417T213445Z
LAST-MODIFIED:20250612T185522Z
UID:10010998-1752588000-1752598800@fortbragglibrary.org
SUMMARY:LEGO® and Games
DESCRIPTION:LEGO® & Games\nMost Tuesdays\n2-5 pm\nKids and families!  \nCheck the calendar for updates.
URL:https://fortbragglibrary.org/event/lego-and-games/2025-07-15/
LOCATION:Fort Bragg Library\, 499 E Laurel St\, Fort Bragg\, CA\, United States
CATEGORIES:LEGO® & Games
GEO:39.4456801;-123.8011111
X-APPLE-STRUCTURED-LOCATION;VALUE=URI;X-ADDRESS=Fort Bragg Library 499 E Laurel St Fort Bragg CA United States;X-APPLE-RADIUS=500;X-TITLE=499 E Laurel St:geo:-123.8011111,39.4456801
END:VEVENT
BEGIN:VEVENT
DTSTART;TZID=America/Los_Angeles:20250722T140000
DTEND;TZID=America/Los_Angeles:20250722T170000
DTSTAMP:20260422T145100
CREATED:20250417T213445Z
LAST-MODIFIED:20250612T185522Z
UID:10010999-1753192800-1753203600@fortbragglibrary.org
SUMMARY:LEGO® and Games
DESCRIPTION:LEGO® & Games\nMost Tuesdays\n2-5 pm\nKids and families!  \nCheck the calendar for updates.
URL:https://fortbragglibrary.org/event/lego-and-games/2025-07-22/
LOCATION:Fort Bragg Library\, 499 E Laurel St\, Fort Bragg\, CA\, United States
CATEGORIES:LEGO® & Games
GEO:39.4456801;-123.8011111
X-APPLE-STRUCTURED-LOCATION;VALUE=URI;X-ADDRESS=Fort Bragg Library 499 E Laurel St Fort Bragg CA United States;X-APPLE-RADIUS=500;X-TITLE=499 E Laurel St:geo:-123.8011111,39.4456801
END:VEVENT
BEGIN:VEVENT
DTSTART;TZID=America/Los_Angeles:20250729T140000
DTEND;TZID=America/Los_Angeles:20250729T170000
DTSTAMP:20260422T145100
CREATED:20250417T213445Z
LAST-MODIFIED:20250612T185522Z
UID:10011000-1753797600-1753808400@fortbragglibrary.org
SUMMARY:LEGO® and Games
DESCRIPTION:LEGO® & Games\nMost Tuesdays\n2-5 pm\nKids and families!  \nCheck the calendar for updates.
URL:https://fortbragglibrary.org/event/lego-and-games/2025-07-29/
LOCATION:Fort Bragg Library\, 499 E Laurel St\, Fort Bragg\, CA\, United States
CATEGORIES:LEGO® & Games
GEO:39.4456801;-123.8011111
X-APPLE-STRUCTURED-LOCATION;VALUE=URI;X-ADDRESS=Fort Bragg Library 499 E Laurel St Fort Bragg CA United States;X-APPLE-RADIUS=500;X-TITLE=499 E Laurel St:geo:-123.8011111,39.4456801
END:VEVENT
BEGIN:VEVENT
DTSTART;TZID=America/Los_Angeles:20250805T140000
DTEND;TZID=America/Los_Angeles:20250805T170000
DTSTAMP:20260422T145100
CREATED:20250417T213445Z
LAST-MODIFIED:20250612T185522Z
UID:10011001-1754402400-1754413200@fortbragglibrary.org
SUMMARY:LEGO® and Games
DESCRIPTION:LEGO® & Games\nMost Tuesdays\n2-5 pm\nKids and families!  \nCheck the calendar for updates.
URL:https://fortbragglibrary.org/event/lego-and-games/2025-08-05/
LOCATION:Fort Bragg Library\, 499 E Laurel St\, Fort Bragg\, CA\, United States
CATEGORIES:LEGO® & Games
GEO:39.4456801;-123.8011111
X-APPLE-STRUCTURED-LOCATION;VALUE=URI;X-ADDRESS=Fort Bragg Library 499 E Laurel St Fort Bragg CA United States;X-APPLE-RADIUS=500;X-TITLE=499 E Laurel St:geo:-123.8011111,39.4456801
END:VEVENT
BEGIN:VEVENT
DTSTART;TZID=America/Los_Angeles:20250812T140000
DTEND;TZID=America/Los_Angeles:20250812T170000
DTSTAMP:20260422T145100
CREATED:20250417T213445Z
LAST-MODIFIED:20250612T185522Z
UID:10011002-1755007200-1755018000@fortbragglibrary.org
SUMMARY:LEGO® and Games
DESCRIPTION:LEGO® & Games\nMost Tuesdays\n2-5 pm\nKids and families!  \nCheck the calendar for updates.
URL:https://fortbragglibrary.org/event/lego-and-games/2025-08-12/
LOCATION:Fort Bragg Library\, 499 E Laurel St\, Fort Bragg\, CA\, United States
CATEGORIES:LEGO® & Games
GEO:39.4456801;-123.8011111
X-APPLE-STRUCTURED-LOCATION;VALUE=URI;X-ADDRESS=Fort Bragg Library 499 E Laurel St Fort Bragg CA United States;X-APPLE-RADIUS=500;X-TITLE=499 E Laurel St:geo:-123.8011111,39.4456801
END:VEVENT
BEGIN:VEVENT
DTSTART;TZID=America/Los_Angeles:20250819T140000
DTEND;TZID=America/Los_Angeles:20250819T170000
DTSTAMP:20260422T145101
CREATED:20250830T224610Z
LAST-MODIFIED:20250830T230244Z
UID:10011464-1755612000-1755622800@fortbragglibrary.org
SUMMARY:LEGO® Block Party
DESCRIPTION:LEGO® Block Party\nMost Tuesdays\n2-5 pm\nKids and families! \nBring your friends and come make LEGO® creations together*.  \n*LEGO® bricks are supplied by the library and must remain at the library.  \nCheck the calendar for updates. \n\n 
URL:https://fortbragglibrary.org/event/lego-block-party-4/
LOCATION:Fort Bragg Library\, 499 E Laurel St\, Fort Bragg\, CA\, United States
CATEGORIES:LEGO® & Games
GEO:39.4456801;-123.8011111
X-APPLE-STRUCTURED-LOCATION;VALUE=URI;X-ADDRESS=Fort Bragg Library 499 E Laurel St Fort Bragg CA United States;X-APPLE-RADIUS=500;X-TITLE=499 E Laurel St:geo:-123.8011111,39.4456801
END:VEVENT
BEGIN:VEVENT
DTSTART;TZID=America/Los_Angeles:20250826T140000
DTEND;TZID=America/Los_Angeles:20250826T170000
DTSTAMP:20260422T145101
CREATED:20250830T223534Z
LAST-MODIFIED:20250830T230322Z
UID:10011441-1756216800-1756227600@fortbragglibrary.org
SUMMARY:LEGO® BLOCK PARTY
DESCRIPTION:LEGO® Block Party\nMost Tuesdays\n2-5 pm\nKids and families! \nBring your friends and come make LEGO® creations together*.  \n*LEGO® bricks are supplied by the library and must remain at the library.  \nCheck the calendar for updates. \n\n 
URL:https://fortbragglibrary.org/event/lego-block-party-2/
LOCATION:Fort Bragg Library\, 499 E Laurel St\, Fort Bragg\, CA\, United States
CATEGORIES:LEGO® & Games
GEO:39.4456801;-123.8011111
X-APPLE-STRUCTURED-LOCATION;VALUE=URI;X-ADDRESS=Fort Bragg Library 499 E Laurel St Fort Bragg CA United States;X-APPLE-RADIUS=500;X-TITLE=499 E Laurel St:geo:-123.8011111,39.4456801
END:VEVENT
BEGIN:VEVENT
DTSTART;TZID=America/Los_Angeles:20250909T140000
DTEND;TZID=America/Los_Angeles:20250909T170000
DTSTAMP:20260422T145101
CREATED:20250726T214407Z
LAST-MODIFIED:20250830T230414Z
UID:10011221-1757426400-1757437200@fortbragglibrary.org
SUMMARY:LEGO® Block Party
DESCRIPTION:LEGO® Block Party\nMost Tuesdays\n2-5 pm\nKids and families!  \nCheck the calendar for updates.
URL:https://fortbragglibrary.org/event/lego-block-party/2025-09-09/
LOCATION:Fort Bragg Library\, 499 E Laurel St\, Fort Bragg\, CA\, United States
CATEGORIES:LEGO® & Games
GEO:39.4456801;-123.8011111
X-APPLE-STRUCTURED-LOCATION;VALUE=URI;X-ADDRESS=Fort Bragg Library 499 E Laurel St Fort Bragg CA United States;X-APPLE-RADIUS=500;X-TITLE=499 E Laurel St:geo:-123.8011111,39.4456801
END:VEVENT
BEGIN:VEVENT
DTSTART;TZID=America/Los_Angeles:20250916T140000
DTEND;TZID=America/Los_Angeles:20250916T170000
DTSTAMP:20260422T145101
CREATED:20250726T214407Z
LAST-MODIFIED:20250830T230414Z
UID:10011222-1758031200-1758042000@fortbragglibrary.org
SUMMARY:LEGO® Block Party
DESCRIPTION:LEGO® Block Party\nMost Tuesdays\n2-5 pm\nKids and families!  \nCheck the calendar for updates.
URL:https://fortbragglibrary.org/event/lego-block-party/2025-09-16/
LOCATION:Fort Bragg Library\, 499 E Laurel St\, Fort Bragg\, CA\, United States
CATEGORIES:LEGO® & Games
GEO:39.4456801;-123.8011111
X-APPLE-STRUCTURED-LOCATION;VALUE=URI;X-ADDRESS=Fort Bragg Library 499 E Laurel St Fort Bragg CA United States;X-APPLE-RADIUS=500;X-TITLE=499 E Laurel St:geo:-123.8011111,39.4456801
END:VEVENT
BEGIN:VEVENT
DTSTART;TZID=America/Los_Angeles:20250923T140000
DTEND;TZID=America/Los_Angeles:20250923T170000
DTSTAMP:20260422T145101
CREATED:20250726T214407Z
LAST-MODIFIED:20250830T230414Z
UID:10011223-1758636000-1758646800@fortbragglibrary.org
SUMMARY:LEGO® Block Party
DESCRIPTION:LEGO® Block Party\nMost Tuesdays\n2-5 pm\nKids and families!  \nCheck the calendar for updates.
URL:https://fortbragglibrary.org/event/lego-block-party/2025-09-23/
LOCATION:Fort Bragg Library\, 499 E Laurel St\, Fort Bragg\, CA\, United States
CATEGORIES:LEGO® & Games
GEO:39.4456801;-123.8011111
X-APPLE-STRUCTURED-LOCATION;VALUE=URI;X-ADDRESS=Fort Bragg Library 499 E Laurel St Fort Bragg CA United States;X-APPLE-RADIUS=500;X-TITLE=499 E Laurel St:geo:-123.8011111,39.4456801
END:VEVENT
BEGIN:VEVENT
DTSTART;TZID=America/Los_Angeles:20250930T140000
DTEND;TZID=America/Los_Angeles:20250930T170000
DTSTAMP:20260422T145101
CREATED:20250726T214407Z
LAST-MODIFIED:20250830T230414Z
UID:10011224-1759240800-1759251600@fortbragglibrary.org
SUMMARY:LEGO® Block Party
DESCRIPTION:LEGO® Block Party\nMost Tuesdays\n2-5 pm\nKids and families!  \nCheck the calendar for updates.
URL:https://fortbragglibrary.org/event/lego-block-party/2025-09-30/
LOCATION:Fort Bragg Library\, 499 E Laurel St\, Fort Bragg\, CA\, United States
CATEGORIES:LEGO® & Games
GEO:39.4456801;-123.8011111
X-APPLE-STRUCTURED-LOCATION;VALUE=URI;X-ADDRESS=Fort Bragg Library 499 E Laurel St Fort Bragg CA United States;X-APPLE-RADIUS=500;X-TITLE=499 E Laurel St:geo:-123.8011111,39.4456801
END:VEVENT
BEGIN:VEVENT
DTSTART;TZID=America/Los_Angeles:20251007T140000
DTEND;TZID=America/Los_Angeles:20251007T170000
DTSTAMP:20260422T145101
CREATED:20250726T214407Z
LAST-MODIFIED:20250830T230414Z
UID:10011225-1759845600-1759856400@fortbragglibrary.org
SUMMARY:LEGO® Block Party
DESCRIPTION:LEGO® Block Party\nMost Tuesdays\n2-5 pm\nKids and families!  \nCheck the calendar for updates.
URL:https://fortbragglibrary.org/event/lego-block-party/2025-10-07/
LOCATION:Fort Bragg Library\, 499 E Laurel St\, Fort Bragg\, CA\, United States
CATEGORIES:LEGO® & Games
GEO:39.4456801;-123.8011111
X-APPLE-STRUCTURED-LOCATION;VALUE=URI;X-ADDRESS=Fort Bragg Library 499 E Laurel St Fort Bragg CA United States;X-APPLE-RADIUS=500;X-TITLE=499 E Laurel St:geo:-123.8011111,39.4456801
END:VEVENT
BEGIN:VEVENT
DTSTART;TZID=America/Los_Angeles:20251021T140000
DTEND;TZID=America/Los_Angeles:20251021T170000
DTSTAMP:20260422T145101
CREATED:20250726T214407Z
LAST-MODIFIED:20250830T230414Z
UID:10011227-1761055200-1761066000@fortbragglibrary.org
SUMMARY:LEGO® Block Party
DESCRIPTION:LEGO® Block Party\nMost Tuesdays\n2-5 pm\nKids and families!  \nCheck the calendar for updates.
URL:https://fortbragglibrary.org/event/lego-block-party/2025-10-21/
LOCATION:Fort Bragg Library\, 499 E Laurel St\, Fort Bragg\, CA\, United States
CATEGORIES:LEGO® & Games
GEO:39.4456801;-123.8011111
X-APPLE-STRUCTURED-LOCATION;VALUE=URI;X-ADDRESS=Fort Bragg Library 499 E Laurel St Fort Bragg CA United States;X-APPLE-RADIUS=500;X-TITLE=499 E Laurel St:geo:-123.8011111,39.4456801
END:VEVENT
END:VCALENDAR