BEGIN:VCALENDAR
VERSION:2.0
PRODID:-//Fort Bragg Library - ECPv6.15.20//NONSGML v1.0//EN
CALSCALE:GREGORIAN
METHOD:PUBLISH
X-ORIGINAL-URL:https://fortbragglibrary.org
X-WR-CALDESC:Events for Fort Bragg Library
REFRESH-INTERVAL;VALUE=DURATION:PT1H
X-Robots-Tag:noindex
X-PUBLISHED-TTL:PT1H
BEGIN:VTIMEZONE
TZID:America/Los_Angeles
BEGIN:DAYLIGHT
TZOFFSETFROM:-0800
TZOFFSETTO:-0700
TZNAME:PDT
DTSTART:20250309T100000
END:DAYLIGHT
BEGIN:STANDARD
TZOFFSETFROM:-0700
TZOFFSETTO:-0800
TZNAME:PST
DTSTART:20251102T090000
END:STANDARD
BEGIN:DAYLIGHT
TZOFFSETFROM:-0800
TZOFFSETTO:-0700
TZNAME:PDT
DTSTART:20260308T100000
END:DAYLIGHT
BEGIN:STANDARD
TZOFFSETFROM:-0700
TZOFFSETTO:-0800
TZNAME:PST
DTSTART:20261101T090000
END:STANDARD
BEGIN:DAYLIGHT
TZOFFSETFROM:-0800
TZOFFSETTO:-0700
TZNAME:PDT
DTSTART:20270314T100000
END:DAYLIGHT
BEGIN:STANDARD
TZOFFSETFROM:-0700
TZOFFSETTO:-0800
TZNAME:PST
DTSTART:20271107T090000
END:STANDARD
END:VTIMEZONE
BEGIN:VEVENT
DTSTART;TZID=America/Los_Angeles:20260203T140000
DTEND;TZID=America/Los_Angeles:20260203T170000
DTSTAMP:20260421T083823
CREATED:20250726T214407Z
LAST-MODIFIED:20250830T230414Z
UID:10011242-1770127200-1770138000@fortbragglibrary.org
SUMMARY:LEGO® Block Party
DESCRIPTION:LEGO® Block Party\nMost Tuesdays\n2-5 pm\nKids and families!  \nCheck the calendar for updates.
URL:https://fortbragglibrary.org/event/lego-block-party/2026-02-03/
LOCATION:Fort Bragg Library\, 499 E Laurel St\, Fort Bragg\, CA\, United States
CATEGORIES:LEGO® & Games
GEO:39.4456801;-123.8011111
X-APPLE-STRUCTURED-LOCATION;VALUE=URI;X-ADDRESS=Fort Bragg Library 499 E Laurel St Fort Bragg CA United States;X-APPLE-RADIUS=500;X-TITLE=499 E Laurel St:geo:-123.8011111,39.4456801
END:VEVENT
BEGIN:VEVENT
DTSTART;TZID=America/Los_Angeles:20260210T140000
DTEND;TZID=America/Los_Angeles:20260210T170000
DTSTAMP:20260421T083823
CREATED:20250726T214407Z
LAST-MODIFIED:20250830T230414Z
UID:10011243-1770732000-1770742800@fortbragglibrary.org
SUMMARY:LEGO® Block Party
DESCRIPTION:LEGO® Block Party\nMost Tuesdays\n2-5 pm\nKids and families!  \nCheck the calendar for updates.
URL:https://fortbragglibrary.org/event/lego-block-party/2026-02-10/
LOCATION:Fort Bragg Library\, 499 E Laurel St\, Fort Bragg\, CA\, United States
CATEGORIES:LEGO® & Games
GEO:39.4456801;-123.8011111
X-APPLE-STRUCTURED-LOCATION;VALUE=URI;X-ADDRESS=Fort Bragg Library 499 E Laurel St Fort Bragg CA United States;X-APPLE-RADIUS=500;X-TITLE=499 E Laurel St:geo:-123.8011111,39.4456801
END:VEVENT
BEGIN:VEVENT
DTSTART;TZID=America/Los_Angeles:20260224T140000
DTEND;TZID=America/Los_Angeles:20260224T170000
DTSTAMP:20260421T083823
CREATED:20250726T214407Z
LAST-MODIFIED:20250830T230414Z
UID:10011245-1771941600-1771952400@fortbragglibrary.org
SUMMARY:LEGO® Block Party
DESCRIPTION:LEGO® Block Party\nMost Tuesdays\n2-5 pm\nKids and families!  \nCheck the calendar for updates.
URL:https://fortbragglibrary.org/event/lego-block-party/2026-02-24/
LOCATION:Fort Bragg Library\, 499 E Laurel St\, Fort Bragg\, CA\, United States
CATEGORIES:LEGO® & Games
GEO:39.4456801;-123.8011111
X-APPLE-STRUCTURED-LOCATION;VALUE=URI;X-ADDRESS=Fort Bragg Library 499 E Laurel St Fort Bragg CA United States;X-APPLE-RADIUS=500;X-TITLE=499 E Laurel St:geo:-123.8011111,39.4456801
END:VEVENT
BEGIN:VEVENT
DTSTART;TZID=America/Los_Angeles:20260303T140000
DTEND;TZID=America/Los_Angeles:20260303T170000
DTSTAMP:20260421T083823
CREATED:20250726T214407Z
LAST-MODIFIED:20250830T230414Z
UID:10011246-1772546400-1772557200@fortbragglibrary.org
SUMMARY:LEGO® Block Party
DESCRIPTION:LEGO® Block Party\nMost Tuesdays\n2-5 pm\nKids and families!  \nCheck the calendar for updates.
URL:https://fortbragglibrary.org/event/lego-block-party/2026-03-03/
LOCATION:Fort Bragg Library\, 499 E Laurel St\, Fort Bragg\, CA\, United States
CATEGORIES:LEGO® & Games
GEO:39.4456801;-123.8011111
X-APPLE-STRUCTURED-LOCATION;VALUE=URI;X-ADDRESS=Fort Bragg Library 499 E Laurel St Fort Bragg CA United States;X-APPLE-RADIUS=500;X-TITLE=499 E Laurel St:geo:-123.8011111,39.4456801
END:VEVENT
BEGIN:VEVENT
DTSTART;TZID=America/Los_Angeles:20260310T140000
DTEND;TZID=America/Los_Angeles:20260310T170000
DTSTAMP:20260421T083823
CREATED:20250726T214407Z
LAST-MODIFIED:20250830T230414Z
UID:10011247-1773151200-1773162000@fortbragglibrary.org
SUMMARY:LEGO® Block Party
DESCRIPTION:LEGO® Block Party\nMost Tuesdays\n2-5 pm\nKids and families!  \nCheck the calendar for updates.
URL:https://fortbragglibrary.org/event/lego-block-party/2026-03-10/
LOCATION:Fort Bragg Library\, 499 E Laurel St\, Fort Bragg\, CA\, United States
CATEGORIES:LEGO® & Games
GEO:39.4456801;-123.8011111
X-APPLE-STRUCTURED-LOCATION;VALUE=URI;X-ADDRESS=Fort Bragg Library 499 E Laurel St Fort Bragg CA United States;X-APPLE-RADIUS=500;X-TITLE=499 E Laurel St:geo:-123.8011111,39.4456801
END:VEVENT
BEGIN:VEVENT
DTSTART;TZID=America/Los_Angeles:20260317T140000
DTEND;TZID=America/Los_Angeles:20260317T170000
DTSTAMP:20260421T083823
CREATED:20250726T214407Z
LAST-MODIFIED:20250830T230414Z
UID:10011248-1773756000-1773766800@fortbragglibrary.org
SUMMARY:LEGO® Block Party
DESCRIPTION:LEGO® Block Party\nMost Tuesdays\n2-5 pm\nKids and families!  \nCheck the calendar for updates.
URL:https://fortbragglibrary.org/event/lego-block-party/2026-03-17/
LOCATION:Fort Bragg Library\, 499 E Laurel St\, Fort Bragg\, CA\, United States
CATEGORIES:LEGO® & Games
GEO:39.4456801;-123.8011111
X-APPLE-STRUCTURED-LOCATION;VALUE=URI;X-ADDRESS=Fort Bragg Library 499 E Laurel St Fort Bragg CA United States;X-APPLE-RADIUS=500;X-TITLE=499 E Laurel St:geo:-123.8011111,39.4456801
END:VEVENT
BEGIN:VEVENT
DTSTART;TZID=America/Los_Angeles:20260324T140000
DTEND;TZID=America/Los_Angeles:20260324T170000
DTSTAMP:20260421T083823
CREATED:20250726T214407Z
LAST-MODIFIED:20250830T230414Z
UID:10011249-1774360800-1774371600@fortbragglibrary.org
SUMMARY:LEGO® Block Party
DESCRIPTION:LEGO® Block Party\nMost Tuesdays\n2-5 pm\nKids and families!  \nCheck the calendar for updates.
URL:https://fortbragglibrary.org/event/lego-block-party/2026-03-24/
LOCATION:Fort Bragg Library\, 499 E Laurel St\, Fort Bragg\, CA\, United States
CATEGORIES:LEGO® & Games
GEO:39.4456801;-123.8011111
X-APPLE-STRUCTURED-LOCATION;VALUE=URI;X-ADDRESS=Fort Bragg Library 499 E Laurel St Fort Bragg CA United States;X-APPLE-RADIUS=500;X-TITLE=499 E Laurel St:geo:-123.8011111,39.4456801
END:VEVENT
BEGIN:VEVENT
DTSTART;TZID=America/Los_Angeles:20260331T140000
DTEND;TZID=America/Los_Angeles:20260331T170000
DTSTAMP:20260421T083823
CREATED:20250726T214407Z
LAST-MODIFIED:20250830T230414Z
UID:10011250-1774965600-1774976400@fortbragglibrary.org
SUMMARY:LEGO® Block Party
DESCRIPTION:LEGO® Block Party\nMost Tuesdays\n2-5 pm\nKids and families!  \nCheck the calendar for updates.
URL:https://fortbragglibrary.org/event/lego-block-party/2026-03-31/
LOCATION:Fort Bragg Library\, 499 E Laurel St\, Fort Bragg\, CA\, United States
CATEGORIES:LEGO® & Games
GEO:39.4456801;-123.8011111
X-APPLE-STRUCTURED-LOCATION;VALUE=URI;X-ADDRESS=Fort Bragg Library 499 E Laurel St Fort Bragg CA United States;X-APPLE-RADIUS=500;X-TITLE=499 E Laurel St:geo:-123.8011111,39.4456801
END:VEVENT
BEGIN:VEVENT
DTSTART;TZID=America/Los_Angeles:20260407T140000
DTEND;TZID=America/Los_Angeles:20260407T170000
DTSTAMP:20260421T083823
CREATED:20250726T214407Z
LAST-MODIFIED:20250830T230414Z
UID:10011251-1775570400-1775581200@fortbragglibrary.org
SUMMARY:LEGO® Block Party
DESCRIPTION:LEGO® Block Party\nMost Tuesdays\n2-5 pm\nKids and families!  \nCheck the calendar for updates.
URL:https://fortbragglibrary.org/event/lego-block-party/2026-04-07/
LOCATION:Fort Bragg Library\, 499 E Laurel St\, Fort Bragg\, CA\, United States
CATEGORIES:LEGO® & Games
GEO:39.4456801;-123.8011111
X-APPLE-STRUCTURED-LOCATION;VALUE=URI;X-ADDRESS=Fort Bragg Library 499 E Laurel St Fort Bragg CA United States;X-APPLE-RADIUS=500;X-TITLE=499 E Laurel St:geo:-123.8011111,39.4456801
END:VEVENT
BEGIN:VEVENT
DTSTART;TZID=America/Los_Angeles:20260414T140000
DTEND;TZID=America/Los_Angeles:20260414T170000
DTSTAMP:20260421T083823
CREATED:20250726T214407Z
LAST-MODIFIED:20250830T230414Z
UID:10011252-1776175200-1776186000@fortbragglibrary.org
SUMMARY:LEGO® Block Party
DESCRIPTION:LEGO® Block Party\nMost Tuesdays\n2-5 pm\nKids and families!  \nCheck the calendar for updates.
URL:https://fortbragglibrary.org/event/lego-block-party/2026-04-14/
LOCATION:Fort Bragg Library\, 499 E Laurel St\, Fort Bragg\, CA\, United States
CATEGORIES:LEGO® & Games
GEO:39.4456801;-123.8011111
X-APPLE-STRUCTURED-LOCATION;VALUE=URI;X-ADDRESS=Fort Bragg Library 499 E Laurel St Fort Bragg CA United States;X-APPLE-RADIUS=500;X-TITLE=499 E Laurel St:geo:-123.8011111,39.4456801
END:VEVENT
BEGIN:VEVENT
DTSTART;TZID=America/Los_Angeles:20260421T140000
DTEND;TZID=America/Los_Angeles:20260421T170000
DTSTAMP:20260421T083823
CREATED:20250726T214407Z
LAST-MODIFIED:20250830T230414Z
UID:10011253-1776780000-1776790800@fortbragglibrary.org
SUMMARY:LEGO® Block Party
DESCRIPTION:LEGO® Block Party\nMost Tuesdays\n2-5 pm\nKids and families!  \nCheck the calendar for updates.
URL:https://fortbragglibrary.org/event/lego-block-party/2026-04-21/
LOCATION:Fort Bragg Library\, 499 E Laurel St\, Fort Bragg\, CA\, United States
CATEGORIES:LEGO® & Games
GEO:39.4456801;-123.8011111
X-APPLE-STRUCTURED-LOCATION;VALUE=URI;X-ADDRESS=Fort Bragg Library 499 E Laurel St Fort Bragg CA United States;X-APPLE-RADIUS=500;X-TITLE=499 E Laurel St:geo:-123.8011111,39.4456801
END:VEVENT
BEGIN:VEVENT
DTSTART;TZID=America/Los_Angeles:20260428T140000
DTEND;TZID=America/Los_Angeles:20260428T170000
DTSTAMP:20260421T083823
CREATED:20250726T214407Z
LAST-MODIFIED:20250830T230414Z
UID:10011254-1777384800-1777395600@fortbragglibrary.org
SUMMARY:LEGO® Block Party
DESCRIPTION:LEGO® Block Party\nMost Tuesdays\n2-5 pm\nKids and families!  \nCheck the calendar for updates.
URL:https://fortbragglibrary.org/event/lego-block-party/2026-04-28/
LOCATION:Fort Bragg Library\, 499 E Laurel St\, Fort Bragg\, CA\, United States
CATEGORIES:LEGO® & Games
GEO:39.4456801;-123.8011111
X-APPLE-STRUCTURED-LOCATION;VALUE=URI;X-ADDRESS=Fort Bragg Library 499 E Laurel St Fort Bragg CA United States;X-APPLE-RADIUS=500;X-TITLE=499 E Laurel St:geo:-123.8011111,39.4456801
END:VEVENT
BEGIN:VEVENT
DTSTART;TZID=America/Los_Angeles:20260505T130000
DTEND;TZID=America/Los_Angeles:20260505T153000
DTSTAMP:20260421T083823
CREATED:20260401T211850Z
LAST-MODIFIED:20260401T211850Z
UID:10011255-1777986000-1777995000@fortbragglibrary.org
SUMMARY:LEGO® Block Party
DESCRIPTION:This week only\, LEGO will be 1-3:30 pm to allow for another event to set up.\n		\n		\n	LEGO® Block Party\nMost Tuesdays\n2-5 pm\nKids and families!  \nCheck the calendar for updates.
URL:https://fortbragglibrary.org/event/lego-block-party-3/
LOCATION:Fort Bragg Library\, 499 E Laurel St\, Fort Bragg\, CA\, United States
CATEGORIES:LEGO® & Games
GEO:39.4456801;-123.8011111
X-APPLE-STRUCTURED-LOCATION;VALUE=URI;X-ADDRESS=Fort Bragg Library 499 E Laurel St Fort Bragg CA United States;X-APPLE-RADIUS=500;X-TITLE=499 E Laurel St:geo:-123.8011111,39.4456801
END:VEVENT
BEGIN:VEVENT
DTSTART;TZID=America/Los_Angeles:20260512T140000
DTEND;TZID=America/Los_Angeles:20260512T170000
DTSTAMP:20260421T083823
CREATED:20250726T214407Z
LAST-MODIFIED:20250830T230414Z
UID:10011256-1778594400-1778605200@fortbragglibrary.org
SUMMARY:LEGO® Block Party
DESCRIPTION:LEGO® Block Party\nMost Tuesdays\n2-5 pm\nKids and families!  \nCheck the calendar for updates.
URL:https://fortbragglibrary.org/event/lego-block-party/2026-05-12/
LOCATION:Fort Bragg Library\, 499 E Laurel St\, Fort Bragg\, CA\, United States
CATEGORIES:LEGO® & Games
GEO:39.4456801;-123.8011111
X-APPLE-STRUCTURED-LOCATION;VALUE=URI;X-ADDRESS=Fort Bragg Library 499 E Laurel St Fort Bragg CA United States;X-APPLE-RADIUS=500;X-TITLE=499 E Laurel St:geo:-123.8011111,39.4456801
END:VEVENT
BEGIN:VEVENT
DTSTART;TZID=America/Los_Angeles:20260519T140000
DTEND;TZID=America/Los_Angeles:20260519T170000
DTSTAMP:20260421T083823
CREATED:20250726T214407Z
LAST-MODIFIED:20250830T230414Z
UID:10011257-1779199200-1779210000@fortbragglibrary.org
SUMMARY:LEGO® Block Party
DESCRIPTION:LEGO® Block Party\nMost Tuesdays\n2-5 pm\nKids and families!  \nCheck the calendar for updates.
URL:https://fortbragglibrary.org/event/lego-block-party/2026-05-19/
LOCATION:Fort Bragg Library\, 499 E Laurel St\, Fort Bragg\, CA\, United States
CATEGORIES:LEGO® & Games
GEO:39.4456801;-123.8011111
X-APPLE-STRUCTURED-LOCATION;VALUE=URI;X-ADDRESS=Fort Bragg Library 499 E Laurel St Fort Bragg CA United States;X-APPLE-RADIUS=500;X-TITLE=499 E Laurel St:geo:-123.8011111,39.4456801
END:VEVENT
BEGIN:VEVENT
DTSTART;TZID=America/Los_Angeles:20260526T140000
DTEND;TZID=America/Los_Angeles:20260526T170000
DTSTAMP:20260421T083823
CREATED:20250726T214407Z
LAST-MODIFIED:20250830T230414Z
UID:10011258-1779804000-1779814800@fortbragglibrary.org
SUMMARY:LEGO® Block Party
DESCRIPTION:LEGO® Block Party\nMost Tuesdays\n2-5 pm\nKids and families!  \nCheck the calendar for updates.
URL:https://fortbragglibrary.org/event/lego-block-party/2026-05-26/
LOCATION:Fort Bragg Library\, 499 E Laurel St\, Fort Bragg\, CA\, United States
CATEGORIES:LEGO® & Games
GEO:39.4456801;-123.8011111
X-APPLE-STRUCTURED-LOCATION;VALUE=URI;X-ADDRESS=Fort Bragg Library 499 E Laurel St Fort Bragg CA United States;X-APPLE-RADIUS=500;X-TITLE=499 E Laurel St:geo:-123.8011111,39.4456801
END:VEVENT
BEGIN:VEVENT
DTSTART;TZID=America/Los_Angeles:20260602T140000
DTEND;TZID=America/Los_Angeles:20260602T170000
DTSTAMP:20260421T083823
CREATED:20250726T214407Z
LAST-MODIFIED:20250830T230414Z
UID:10011259-1780408800-1780419600@fortbragglibrary.org
SUMMARY:LEGO® Block Party
DESCRIPTION:LEGO® Block Party\nMost Tuesdays\n2-5 pm\nKids and families!  \nCheck the calendar for updates.
URL:https://fortbragglibrary.org/event/lego-block-party/2026-06-02/
LOCATION:Fort Bragg Library\, 499 E Laurel St\, Fort Bragg\, CA\, United States
CATEGORIES:LEGO® & Games
GEO:39.4456801;-123.8011111
X-APPLE-STRUCTURED-LOCATION;VALUE=URI;X-ADDRESS=Fort Bragg Library 499 E Laurel St Fort Bragg CA United States;X-APPLE-RADIUS=500;X-TITLE=499 E Laurel St:geo:-123.8011111,39.4456801
END:VEVENT
BEGIN:VEVENT
DTSTART;TZID=America/Los_Angeles:20260609T140000
DTEND;TZID=America/Los_Angeles:20260609T170000
DTSTAMP:20260421T083823
CREATED:20250726T214407Z
LAST-MODIFIED:20250830T230414Z
UID:10011260-1781013600-1781024400@fortbragglibrary.org
SUMMARY:LEGO® Block Party
DESCRIPTION:LEGO® Block Party\nMost Tuesdays\n2-5 pm\nKids and families!  \nCheck the calendar for updates.
URL:https://fortbragglibrary.org/event/lego-block-party/2026-06-09/
LOCATION:Fort Bragg Library\, 499 E Laurel St\, Fort Bragg\, CA\, United States
CATEGORIES:LEGO® & Games
GEO:39.4456801;-123.8011111
X-APPLE-STRUCTURED-LOCATION;VALUE=URI;X-ADDRESS=Fort Bragg Library 499 E Laurel St Fort Bragg CA United States;X-APPLE-RADIUS=500;X-TITLE=499 E Laurel St:geo:-123.8011111,39.4456801
END:VEVENT
BEGIN:VEVENT
DTSTART;TZID=America/Los_Angeles:20260616T140000
DTEND;TZID=America/Los_Angeles:20260616T170000
DTSTAMP:20260421T083823
CREATED:20250726T214407Z
LAST-MODIFIED:20250830T230414Z
UID:10011261-1781618400-1781629200@fortbragglibrary.org
SUMMARY:LEGO® Block Party
DESCRIPTION:LEGO® Block Party\nMost Tuesdays\n2-5 pm\nKids and families!  \nCheck the calendar for updates.
URL:https://fortbragglibrary.org/event/lego-block-party/2026-06-16/
LOCATION:Fort Bragg Library\, 499 E Laurel St\, Fort Bragg\, CA\, United States
CATEGORIES:LEGO® & Games
GEO:39.4456801;-123.8011111
X-APPLE-STRUCTURED-LOCATION;VALUE=URI;X-ADDRESS=Fort Bragg Library 499 E Laurel St Fort Bragg CA United States;X-APPLE-RADIUS=500;X-TITLE=499 E Laurel St:geo:-123.8011111,39.4456801
END:VEVENT
BEGIN:VEVENT
DTSTART;TZID=America/Los_Angeles:20260623T140000
DTEND;TZID=America/Los_Angeles:20260623T170000
DTSTAMP:20260421T083823
CREATED:20250726T214407Z
LAST-MODIFIED:20250830T230414Z
UID:10011262-1782223200-1782234000@fortbragglibrary.org
SUMMARY:LEGO® Block Party
DESCRIPTION:LEGO® Block Party\nMost Tuesdays\n2-5 pm\nKids and families!  \nCheck the calendar for updates.
URL:https://fortbragglibrary.org/event/lego-block-party/2026-06-23/
LOCATION:Fort Bragg Library\, 499 E Laurel St\, Fort Bragg\, CA\, United States
CATEGORIES:LEGO® & Games
GEO:39.4456801;-123.8011111
X-APPLE-STRUCTURED-LOCATION;VALUE=URI;X-ADDRESS=Fort Bragg Library 499 E Laurel St Fort Bragg CA United States;X-APPLE-RADIUS=500;X-TITLE=499 E Laurel St:geo:-123.8011111,39.4456801
END:VEVENT
BEGIN:VEVENT
DTSTART;TZID=America/Los_Angeles:20260630T140000
DTEND;TZID=America/Los_Angeles:20260630T170000
DTSTAMP:20260421T083823
CREATED:20250726T214407Z
LAST-MODIFIED:20250830T230414Z
UID:10011263-1782828000-1782838800@fortbragglibrary.org
SUMMARY:LEGO® Block Party
DESCRIPTION:LEGO® Block Party\nMost Tuesdays\n2-5 pm\nKids and families!  \nCheck the calendar for updates.
URL:https://fortbragglibrary.org/event/lego-block-party/2026-06-30/
LOCATION:Fort Bragg Library\, 499 E Laurel St\, Fort Bragg\, CA\, United States
CATEGORIES:LEGO® & Games
GEO:39.4456801;-123.8011111
X-APPLE-STRUCTURED-LOCATION;VALUE=URI;X-ADDRESS=Fort Bragg Library 499 E Laurel St Fort Bragg CA United States;X-APPLE-RADIUS=500;X-TITLE=499 E Laurel St:geo:-123.8011111,39.4456801
END:VEVENT
BEGIN:VEVENT
DTSTART;TZID=America/Los_Angeles:20260707T140000
DTEND;TZID=America/Los_Angeles:20260707T170000
DTSTAMP:20260421T083823
CREATED:20250726T214407Z
LAST-MODIFIED:20250830T230414Z
UID:10011264-1783432800-1783443600@fortbragglibrary.org
SUMMARY:LEGO® Block Party
DESCRIPTION:LEGO® Block Party\nMost Tuesdays\n2-5 pm\nKids and families!  \nCheck the calendar for updates.
URL:https://fortbragglibrary.org/event/lego-block-party/2026-07-07/
LOCATION:Fort Bragg Library\, 499 E Laurel St\, Fort Bragg\, CA\, United States
CATEGORIES:LEGO® & Games
GEO:39.4456801;-123.8011111
X-APPLE-STRUCTURED-LOCATION;VALUE=URI;X-ADDRESS=Fort Bragg Library 499 E Laurel St Fort Bragg CA United States;X-APPLE-RADIUS=500;X-TITLE=499 E Laurel St:geo:-123.8011111,39.4456801
END:VEVENT
BEGIN:VEVENT
DTSTART;TZID=America/Los_Angeles:20260714T140000
DTEND;TZID=America/Los_Angeles:20260714T170000
DTSTAMP:20260421T083823
CREATED:20250726T214407Z
LAST-MODIFIED:20250830T230414Z
UID:10011265-1784037600-1784048400@fortbragglibrary.org
SUMMARY:LEGO® Block Party
DESCRIPTION:LEGO® Block Party\nMost Tuesdays\n2-5 pm\nKids and families!  \nCheck the calendar for updates.
URL:https://fortbragglibrary.org/event/lego-block-party/2026-07-14/
LOCATION:Fort Bragg Library\, 499 E Laurel St\, Fort Bragg\, CA\, United States
CATEGORIES:LEGO® & Games
GEO:39.4456801;-123.8011111
X-APPLE-STRUCTURED-LOCATION;VALUE=URI;X-ADDRESS=Fort Bragg Library 499 E Laurel St Fort Bragg CA United States;X-APPLE-RADIUS=500;X-TITLE=499 E Laurel St:geo:-123.8011111,39.4456801
END:VEVENT
BEGIN:VEVENT
DTSTART;TZID=America/Los_Angeles:20260721T140000
DTEND;TZID=America/Los_Angeles:20260721T170000
DTSTAMP:20260421T083823
CREATED:20250726T214407Z
LAST-MODIFIED:20250830T230414Z
UID:10011266-1784642400-1784653200@fortbragglibrary.org
SUMMARY:LEGO® Block Party
DESCRIPTION:LEGO® Block Party\nMost Tuesdays\n2-5 pm\nKids and families!  \nCheck the calendar for updates.
URL:https://fortbragglibrary.org/event/lego-block-party/2026-07-21/
LOCATION:Fort Bragg Library\, 499 E Laurel St\, Fort Bragg\, CA\, United States
CATEGORIES:LEGO® & Games
GEO:39.4456801;-123.8011111
X-APPLE-STRUCTURED-LOCATION;VALUE=URI;X-ADDRESS=Fort Bragg Library 499 E Laurel St Fort Bragg CA United States;X-APPLE-RADIUS=500;X-TITLE=499 E Laurel St:geo:-123.8011111,39.4456801
END:VEVENT
BEGIN:VEVENT
DTSTART;TZID=America/Los_Angeles:20260728T140000
DTEND;TZID=America/Los_Angeles:20260728T170000
DTSTAMP:20260421T083823
CREATED:20250726T214407Z
LAST-MODIFIED:20250830T230414Z
UID:10011267-1785247200-1785258000@fortbragglibrary.org
SUMMARY:LEGO® Block Party
DESCRIPTION:LEGO® Block Party\nMost Tuesdays\n2-5 pm\nKids and families!  \nCheck the calendar for updates.
URL:https://fortbragglibrary.org/event/lego-block-party/2026-07-28/
LOCATION:Fort Bragg Library\, 499 E Laurel St\, Fort Bragg\, CA\, United States
CATEGORIES:LEGO® & Games
GEO:39.4456801;-123.8011111
X-APPLE-STRUCTURED-LOCATION;VALUE=URI;X-ADDRESS=Fort Bragg Library 499 E Laurel St Fort Bragg CA United States;X-APPLE-RADIUS=500;X-TITLE=499 E Laurel St:geo:-123.8011111,39.4456801
END:VEVENT
BEGIN:VEVENT
DTSTART;TZID=America/Los_Angeles:20260804T140000
DTEND;TZID=America/Los_Angeles:20260804T170000
DTSTAMP:20260421T083823
CREATED:20250726T214407Z
LAST-MODIFIED:20250830T230414Z
UID:10011268-1785852000-1785862800@fortbragglibrary.org
SUMMARY:LEGO® Block Party
DESCRIPTION:LEGO® Block Party\nMost Tuesdays\n2-5 pm\nKids and families!  \nCheck the calendar for updates.
URL:https://fortbragglibrary.org/event/lego-block-party/2026-08-04/
LOCATION:Fort Bragg Library\, 499 E Laurel St\, Fort Bragg\, CA\, United States
CATEGORIES:LEGO® & Games
GEO:39.4456801;-123.8011111
X-APPLE-STRUCTURED-LOCATION;VALUE=URI;X-ADDRESS=Fort Bragg Library 499 E Laurel St Fort Bragg CA United States;X-APPLE-RADIUS=500;X-TITLE=499 E Laurel St:geo:-123.8011111,39.4456801
END:VEVENT
BEGIN:VEVENT
DTSTART;TZID=America/Los_Angeles:20260811T140000
DTEND;TZID=America/Los_Angeles:20260811T170000
DTSTAMP:20260421T083823
CREATED:20250726T214407Z
LAST-MODIFIED:20250830T230414Z
UID:10011269-1786456800-1786467600@fortbragglibrary.org
SUMMARY:LEGO® Block Party
DESCRIPTION:LEGO® Block Party\nMost Tuesdays\n2-5 pm\nKids and families!  \nCheck the calendar for updates.
URL:https://fortbragglibrary.org/event/lego-block-party/2026-08-11/
LOCATION:Fort Bragg Library\, 499 E Laurel St\, Fort Bragg\, CA\, United States
CATEGORIES:LEGO® & Games
GEO:39.4456801;-123.8011111
X-APPLE-STRUCTURED-LOCATION;VALUE=URI;X-ADDRESS=Fort Bragg Library 499 E Laurel St Fort Bragg CA United States;X-APPLE-RADIUS=500;X-TITLE=499 E Laurel St:geo:-123.8011111,39.4456801
END:VEVENT
BEGIN:VEVENT
DTSTART;TZID=America/Los_Angeles:20260818T140000
DTEND;TZID=America/Los_Angeles:20260818T170000
DTSTAMP:20260421T083823
CREATED:20250726T214407Z
LAST-MODIFIED:20250830T230414Z
UID:10011270-1787061600-1787072400@fortbragglibrary.org
SUMMARY:LEGO® Block Party
DESCRIPTION:LEGO® Block Party\nMost Tuesdays\n2-5 pm\nKids and families!  \nCheck the calendar for updates.
URL:https://fortbragglibrary.org/event/lego-block-party/2026-08-18/
LOCATION:Fort Bragg Library\, 499 E Laurel St\, Fort Bragg\, CA\, United States
CATEGORIES:LEGO® & Games
GEO:39.4456801;-123.8011111
X-APPLE-STRUCTURED-LOCATION;VALUE=URI;X-ADDRESS=Fort Bragg Library 499 E Laurel St Fort Bragg CA United States;X-APPLE-RADIUS=500;X-TITLE=499 E Laurel St:geo:-123.8011111,39.4456801
END:VEVENT
BEGIN:VEVENT
DTSTART;TZID=America/Los_Angeles:20260825T140000
DTEND;TZID=America/Los_Angeles:20260825T170000
DTSTAMP:20260421T083823
CREATED:20250726T214407Z
LAST-MODIFIED:20250830T230414Z
UID:10011271-1787666400-1787677200@fortbragglibrary.org
SUMMARY:LEGO® Block Party
DESCRIPTION:LEGO® Block Party\nMost Tuesdays\n2-5 pm\nKids and families!  \nCheck the calendar for updates.
URL:https://fortbragglibrary.org/event/lego-block-party/2026-08-25/
LOCATION:Fort Bragg Library\, 499 E Laurel St\, Fort Bragg\, CA\, United States
CATEGORIES:LEGO® & Games
GEO:39.4456801;-123.8011111
X-APPLE-STRUCTURED-LOCATION;VALUE=URI;X-ADDRESS=Fort Bragg Library 499 E Laurel St Fort Bragg CA United States;X-APPLE-RADIUS=500;X-TITLE=499 E Laurel St:geo:-123.8011111,39.4456801
END:VEVENT
BEGIN:VEVENT
DTSTART;TZID=America/Los_Angeles:20260908T140000
DTEND;TZID=America/Los_Angeles:20260908T170000
DTSTAMP:20260421T083823
CREATED:20250726T214407Z
LAST-MODIFIED:20250830T230414Z
UID:10011273-1788876000-1788886800@fortbragglibrary.org
SUMMARY:LEGO® Block Party
DESCRIPTION:LEGO® Block Party\nMost Tuesdays\n2-5 pm\nKids and families!  \nCheck the calendar for updates.
URL:https://fortbragglibrary.org/event/lego-block-party/2026-09-08/
LOCATION:Fort Bragg Library\, 499 E Laurel St\, Fort Bragg\, CA\, United States
CATEGORIES:LEGO® & Games
GEO:39.4456801;-123.8011111
X-APPLE-STRUCTURED-LOCATION;VALUE=URI;X-ADDRESS=Fort Bragg Library 499 E Laurel St Fort Bragg CA United States;X-APPLE-RADIUS=500;X-TITLE=499 E Laurel St:geo:-123.8011111,39.4456801
END:VEVENT
END:VCALENDAR