BEGIN:VCALENDAR
VERSION:2.0
PRODID:-//Fort Bragg Library - ECPv6.15.20//NONSGML v1.0//EN
CALSCALE:GREGORIAN
METHOD:PUBLISH
X-WR-CALNAME:Fort Bragg Library
X-ORIGINAL-URL:https://fortbragglibrary.org
X-WR-CALDESC:Events for Fort Bragg Library
REFRESH-INTERVAL;VALUE=DURATION:PT1H
X-Robots-Tag:noindex
X-PUBLISHED-TTL:PT1H
BEGIN:VTIMEZONE
TZID:America/Los_Angeles
BEGIN:DAYLIGHT
TZOFFSETFROM:-0800
TZOFFSETTO:-0700
TZNAME:PDT
DTSTART:20250309T100000
END:DAYLIGHT
BEGIN:STANDARD
TZOFFSETFROM:-0700
TZOFFSETTO:-0800
TZNAME:PST
DTSTART:20251102T090000
END:STANDARD
BEGIN:DAYLIGHT
TZOFFSETFROM:-0800
TZOFFSETTO:-0700
TZNAME:PDT
DTSTART:20260308T100000
END:DAYLIGHT
BEGIN:STANDARD
TZOFFSETFROM:-0700
TZOFFSETTO:-0800
TZNAME:PST
DTSTART:20261101T090000
END:STANDARD
BEGIN:DAYLIGHT
TZOFFSETFROM:-0800
TZOFFSETTO:-0700
TZNAME:PDT
DTSTART:20270314T100000
END:DAYLIGHT
BEGIN:STANDARD
TZOFFSETFROM:-0700
TZOFFSETTO:-0800
TZNAME:PST
DTSTART:20271107T090000
END:STANDARD
END:VTIMEZONE
BEGIN:VEVENT
DTSTART;TZID=America/Los_Angeles:20260420T110000
DTEND;TZID=America/Los_Angeles:20260420T200000
DTSTAMP:20260420T023208
CREATED:20260401T181509Z
LAST-MODIFIED:20260401T225136Z
UID:10012165-1776682800-1776715200@fortbragglibrary.org
SUMMARY:Noyo River Grill Annex Fundraiser
DESCRIPTION:Noyo River Grill Annex Fundraiser\nMonday\, April 20\, 2026\n11:30 am – 9 pm\n1011 S Main St. Fort Bragg\, CA 95437 \nLive music provided by Sean Hathorn\, 5-8 pm. \nLunch & Dinner benefit at Noyo River Grill for Friends of the Fort Bragg Library Annex Project. Fantastic food with a world class view! Plus wonderful music!
URL:https://fortbragglibrary.org/event/noyo-river-grill-annex-fundraiser/
LOCATION:Noyo River Grill\, 1011 S Main St\, Fort Bragg\, CA\, 95437\, United States
CATEGORIES:Expansion Fundraising
END:VEVENT
END:VCALENDAR